Workbook

Sheet Н(М)ЦК
K2: УТВЕРЖДАЮ Главный врач ГБУЗ ЛО "Бокситогорская МБ" _______________/Ульянов Е.В.
A4: Обоснование начальной (максимальной) цены контракта
B5: в соответствии с Приказом Министерства здравоохранения Российской Федерации от 19 декабря 2019 г. №1064н
A6: Поставка лекарственных препаратов ЖНВЛП+СЗЛС (заявка № 74)
A7: № п/п | B7: МНН | C7: Код классификатора ОКПД2 | D7: Характеристика товара (лекарственная форма) | E7: Дозировка в соответствии с ЕСКЛП, ГРЛС | F7: Ед. измерения | G7: Кол-во | H7: Цена единицы товара в соответствии с пунктом А части 2 Приказа №1064 н от 19.12.2019, пунктом 1 части 1 статьи 22 ФЗ от 05.04.2013 №44-ФЗ | I7: Цена единицы товара в соответствии с пунктом А части 2 Приказа №1064 н от 19.12.2019, пунктом 3 части 1 статьи 22 ФЗ от 05.04.2013 №44-ФЗ | J7: Цена единицы товара в соответствии с пунктом Б части 2 Приказа №1064 н от 19.12.2019 | K7: Цена единицы товара в соответствии с пунктом В части 2 Приказа №1064 н от 19.12.2019 | L7: Мин. цена за единицу товара, руб. | M7: Цена за единицу товара с НДС 10% и оптовой надбавкой , руб. | N7: НМЦК, руб.
A8: 1 | B8: ИНДАПАМИД | C8: 21.20.10.143 | D8: Таблетки, покрытые оболочкой | E8: 2.5 мг | F8: шт. | G8: 1200 | H8: ='Метод сопоставимых рыночных цен'!T8 -> 5.1 | I8: 2,08**** | J8: ='Средневзвешенная цена'!J8 -> * | K8: ** | L8: =MIN(H8,I8,J8) -> 5.1 | M8: =L8*1.1*1.15 -> 6.45 | N8: =M8*G8 -> 7740
A9: 2 | B9: КАПТОПРИЛ | C9: 21.20.10.148 | D9: Таблетки | E9: 50 мг | F9: шт. | G9: 1000 | H9: ='Метод сопоставимых рыночных цен'!T9 -> 2.19 | I9: ='Тарифный метод'!M7 -> 2.19 | J9: ='Средневзвешенная цена'!J9 -> 2.19 | K9: ** | L9: =MIN(H9,I9,J9) -> 2.19 | M9: =L9*1.1*1.2 -> 2.89 | N9: =M9*G9 -> 2890
A10: 3 | B10: ЛОЗАРТАН | C10: 21.20.10.148 | D10: Таблетки, покрытые оболочкой | E10: 50 мг | F10: шт. | G10: 2700 | H10: ='Метод сопоставимых рыночных цен'!T10 -> 4.04 | I10: ='Тарифный метод'!M8 -> 4.04 | J10: ='Средневзвешенная цена'!J10 -> 5.5 | K10: ** | L10: =H10 -> 4.04 | M10: 5.113 | N10: =M10*G10 -> 13805.1
A11: 4 | B11: СПИРОНОЛАКТОН | C11: 21.20.10.143 | D11: Таблетки | E11: 25 мг | F11: шт. | G11: 5000 | H11: ='Метод сопоставимых рыночных цен'!T11 -> 3.6 | I11: 2,59**** | J11: ='Средневзвешенная цена'!J11 -> * | K11: ** | L11: =MIN(H11,I11,J11) -> 3.6 | M11: 4.7575 | N11: =M11*G11 -> 23787.5
A12: 5 | B12: АПИКСАБАН | C12: 21.20.10.131 | D12: Таблетки, покрытые оболочкой | E12: 5 мг | F12: шт. | G12: 800 | H12: ='Метод сопоставимых рыночных цен'!T12 -> 35.75 | I12: 29,08**** | J12: ='Средневзвешенная цена'!J12 -> * | K12: ** | L12: =MIN(H12,I12,J12) -> 35.75 | M12: =L12*1.1*1.1 -> 43.26 | N12: =M12*G12 -> 34608
A13: Итого: | N13: =SUM(N8:N12) -> 82830.6
A15: ПРИЛОЖЕНИЯ:
A16: Приложение 1. Расчет цены за единицу товара "Методом сопоставимых рыночных цен (анализа рынка)"
A17: Приложение 2. Расчет цены за единицу товара "Тарифным методом"
A18: Приложение 3. Расчет цены за единицу товара "Средневзвешенная цена"
A19: *Средневзвешенная цена отсутствует
A20: **Референтная цена отсутствует в ЕИС
A21: ***Отсутствует в Государственном реестре лекарственных средств
A22: **** В связи с тем, что закупка ГБУЗ ЛО "Бокситогорская МБ" признана несостоявшейся по причине отсутствия оферт (низкое значение начальной максимальной цены за единицу товара), значение цены за единицу товара без учета НДС и оптовой надбавки к расчету не принимается. На основании п.12 Приказа Министерства здравоохранения РФ от 19.12.2019г.№1064н: в случае, если на участие в закупке не подано ни одной заявки по НМЦК, начальной цене единицы лекарственного препарата с ценой единицы лекарственного препарата, начальной ценой единицы лекарственного препарата, определенной в соответствии с пунктом 8 настоящего Порядка, при проведении каждой следующей закупки заказчиком устанавливается минимальное значение НМЦК8, минимальное значение начальной цены единицы лекарственного препарата9, следующее после НМЦК, начальной цены единицы лекарственного препарата, на участие в закупке по которой не подано ни одной заявки.

Sheet Метод сопоставимых рыночных цен
T2: Приложение 1
B4: Расчет цены за единицу товара методом сопоставимых рыночных цен (анализа рынка)
B5: ='Н(М)ЦК'!A6 -> Поставка лекарственных препаратов ЖНВЛП+СЗЛС (заявка № 74)
A6: № п/п | B6: Основные характеристики объекта закупки | C6: Характеристика товара (форма выпуска, лекарственная форма) | D6: Дозировка в соответствии с ЕСКЛП, ГРЛС | E6: Единица измерения | F6: Коммерческое предложение, за единицу товара без НДС и оптовой надбавки, руб. | G6: Реестровый номер контракта 2471201725924000130, за единицу товара без НДС и оптовой надбавки, руб. | H6: Реестровый номер контракта 2471100265125000028, за единицу товара без НДС и оптовой надбавки, руб.* | I6: Реестровый номер контракта 2470000118024000420, за единицу товара без НДС и оптовой надбавки, руб.* | J6: Реестровый номер контракта 2110148723024000433, за единицу товара без НДС и оптовой надбавки, руб. | K6: Реестровый номер контракта 2100600225324000286, за единицу товара без НДС и оптовой надбавки, руб. | L6: Реестровый номер контракта 2780100136924000219, за единицу товара без НДС и оптовой надбавки, руб. | M6: Реестровый номер контракта 1781304746324000217, за единицу товара без НДС и оптовой надбавки, руб. | N6: Реестровый номер контракта 1781073227724000030, за единицу товара без НДС и оптовой надбавки, руб. | O6: Реестровый номер контракта 2780804383324001061, за единицу товара без НДС и оптовой надбавки, руб.* | P6: Реестровый номер контракта 1471400407924000121, за единицу товара без НДС и оптовой надбавки, руб.* | Q6: Однородность совокупности значений выявленных цен, используемых в расчете Н(М)ЦК | T6: Минимальная цена за единицу товара без НДС и оптовой надбавки, руб.
Q7: Средняя арифметическая цена за единицу <ц> | R7: Среднее квадратичное отклонение | S7: Коэффициент вариации цен V (%) (не должен превышать 33%)
A8: ='Н(М)ЦК'!A8 -> 1 | B8: ='Н(М)ЦК'!B8 -> ИНДАПАМИД | C8: ='Н(М)ЦК'!D8 -> Таблетки, покрытые оболочкой | D8: ='Н(М)ЦК'!E8 -> 2.5 мг | E8: ='Н(М)ЦК'!F8 -> шт. | F8: 5.1 | H8: 2.12 | I8: 2.12 | Q8: =AVERAGE(F8:J8) -> 3.11 | R8: =SQRT(((SUM((POWER(F8-Q8,2)),(POWER(H8-Q8,2)),(POWER(I8-Q8,2)),)/(COLUMNS(F8:P8)-1)))) -> 0.77 | S8: =R8/Q8*100 -> 24.76 | T8: 5.1
A9: ='Н(М)ЦК'!A9 -> 2 | B9: ='Н(М)ЦК'!B9 -> КАПТОПРИЛ | C9: ='Н(М)ЦК'!D9 -> Таблетки | D9: ='Н(М)ЦК'!E9 -> 50 мг | E9: ='Н(М)ЦК'!F9 -> шт. | F9: 2.19 | J9: 2.4 | K9: 2.56 | Q9: =AVERAGE(F9:L9) -> 2.38 | R9: =SQRT(((SUM((POWER(F9-Q9,2)),(POWER(J9-Q9,2)),(POWER(K9-Q9,2)),)/(COLUMNS(F9:P9)-1)))) -> 0.08 | S9: =R9/Q9*100 -> 3.36 | T9: =MIN(F9:P9) -> 2.19
A10: ='Н(М)ЦК'!A10 -> 3 | B10: ='Н(М)ЦК'!B10 -> ЛОЗАРТАН | C10: ='Н(М)ЦК'!D10 -> Таблетки, покрытые оболочкой | D10: ='Н(М)ЦК'!E10 -> 50 мг | E10: ='Н(М)ЦК'!F10 -> шт. | F10: 4.04 | G10: 4.13 | L10: 4.13 | Q10: =AVERAGE(F10:O10) -> 4.1 | R10: =SQRT(((SUM((POWER(L10-Q10,2)),(POWER(G10-Q10,2)),(POWER(F10-Q10,2)),)/(COLUMNS(F10:P10)-1)))) -> 0.02 | S10: =R10/Q10*100 -> 0.49 | T10: =MIN(F10:P10) -> 4.04
A11: ='Н(М)ЦК'!A11 -> 4 | B11: ='Н(М)ЦК'!B11 -> СПИРОНОЛАКТОН | C11: ='Н(М)ЦК'!D11 -> Таблетки | D11: ='Н(М)ЦК'!E11 -> 25 мг | E11: ='Н(М)ЦК'!F11 -> шт. | F11: 3.6 | M11: 4.42 | N11: 4.02 | Q11: =AVERAGE(F11:P11) -> 4.01 | R11: =SQRT(((SUM((POWER(F11-Q11,2)),(POWER(M11-Q11,2)),(POWER(N11-Q11,2)),)/(COLUMNS(F11:P11)-1)))) -> 0.18 | S11: =R11/Q11*100 -> 4.49 | T11: =MIN(F11:P11) -> 3.6
A12: ='Н(М)ЦК'!A12 -> 5 | B12: ='Н(М)ЦК'!B12 -> АПИКСАБАН | C12: ='Н(М)ЦК'!D12 -> Таблетки, покрытые оболочкой | D12: ='Н(М)ЦК'!E12 -> 5 мг | E12: ='Н(М)ЦК'!F12 -> шт. | F12: 35.75 | O12: 35.63 | P12: 35.63 | Q12: =AVERAGE(F12:L12) -> 35.75 | R12: =SQRT(((SUM((POWER(F12-Q12,2)),(POWER(O12-Q12,2)),(POWER(P12-Q12,2)),)/(COLUMNS(F12:P12)-1)))) -> 0.05 | S12: =R12/Q12*100 -> 0.14 | T12: 35.75
B15: * в расчет цены не принимается в соответствии с п.п. “г” п. 5 Приказа Министерства здравоохранения Российской Федерации от 19 декабря 2019 г. № N 1064н с остаточным сроком годности, на 20 и более процентов отличающимся от остаточного срока годности, предусмотренного заказчиком в описании объекта закупки, для которой осуществляется определение НМЦК

Sheet Тарифный метод
L2: Приложение 2
A3: Расчет цены за единицу товара "Тарифным методом"
A4: ='Н(М)ЦК'!A6:N6 -> Поставка лекарственных препаратов ЖНВЛП+СЗЛС (заявка № 74)
A5: №п/п | B5: МНН | C5: Торговое наименование лекарственного препарата | D5: Лекарственная форма, дозировка, упаковка (полная) | E5: Владелец РУ/производитель/упаковщик/Выпускающий контроль | F5: Коли- чество в потреб. упаков- ке | G5: Предельная цена руб. без НДС | H5: № РУ | I5: Дата регистрации цены (№ решения) | J5: Штрих-код (EAN13) | K5: Дата вступления в силу | L5: Ед. товара | M5: Цена единицу товара
A6: ='Н(М)ЦК'!A8 -> 1 | B6: ='Н(М)ЦК'!B8 -> ИНДАПАМИД | C6: ИНДАПАМИД | D6: таблетки, покрытые оболочкой, 2.5 мг, 10 шт. - упаковки ячейковые контурные (4) - пачки картонные | E6: Вл.Вып.к.Перв.Уп.Втор.Уп.Пр.ООО "ПРАНАФАРМ", Россия (6316059876); | F6: 40 | G6: 83,21 | H6: П-№(006300)-(РГ-RU) | I6: 23.10.2024 25-7-4301657-ОС-изм | J6: 4610188923068 | K6: 45588 | L6: ='Н(М)ЦК'!F8 -> шт. | M6: =G6/40 -> 2.08
A7: ='Н(М)ЦК'!A9 -> 2 | B7: ='Н(М)ЦК'!B9 -> КАПТОПРИЛ | C7: Каптоприл | D7: таблетки, 50 мг, 10 шт. - упаковки ячейковые контурные (2) - пачки картонные | E7: Вл.Вып.к.Перв.Уп.Втор.Уп.Пр.Общество с ограниченной ответственностью "Озон" (ООО "Озон"), Россия (6345002063); | F7: 20 | G7: 43,82 | H7: ЛП-№(002577)-(РГ-RU) | I7: 26.04.2024 589/20-24/ОС-подтв | J7: 4660153657009 | K7: 45409 | L7: ='Н(М)ЦК'!F9 -> шт. | M7: =G7/20 -> 2.19
A8: ='Н(М)ЦК'!A10 -> 3 | B8: ='Н(М)ЦК'!B10 -> ЛОЗАРТАН | C8: Лозартан-ВЕРТЕКС | D8: таблетки, покрытые пленочной оболочкой, 50 мг, 30 шт. - упаковки ячейковые контурные (1) - пачки картонные | E8: Вл.Вып.к.Перв.Уп.Втор.Уп.Пр.Акционерное общество "ВЕРТЕКС" (АО "ВЕРТЕКС"), Россия (7810180435); | F8: 30 | G8: 121,30 | H8: ЛП-№(005836)-(РГ-RU) | I8: 06.09.2024 25-7-4298092-изм | J8: 4607003249601 | K8: 45541 | L8: ='Н(М)ЦК'!F10 -> шт. | M8: =G8/30 -> 4.04
A9: ='Н(М)ЦК'!A11 -> 4 | B9: ='Н(М)ЦК'!B11 -> СПИРОНОЛАКТОН | C9: Спиронолактон | D9: таблетки, 25 мг, 10 шт. - упаковки ячейковые контурные (2) - пачки картонные | E9: Вл.Общество с ограниченной ответственностью "Атолл" (ООО "Атолл"), Россия (6345021323); Вып.к.Перв.Уп.Втор.Уп.Пр.Общество с ограниченной ответственностью "Озон" (ООО "Озон"), Россия (6345002063); | F9: 20 | G9: 51,81 | H9: ЛП-№(006409)-(РГ-RU) | I9: 01.11.2024 25-7-4303501-изм | J9: 4660153658297 | K9: 45597 | L9: ='Н(М)ЦК'!F11 -> шт. | M9: =G9/20 -> 2.59
A10: ='Н(М)ЦК'!A12 -> 5 | B10: ='Н(М)ЦК'!B12 -> АПИКСАБАН | C10: АПИКСАБАН | D10: таблетки, покрытые пленочной оболочкой, 5 мг, 20 шт. - банка (1) - пачка картонная | E10: Вл.Общество с ограниченной ответственностью "ПРОМОМЕД РУС" (ООО "ПРОМОМЕД РУС"), Россия (7701379527); Вып.к.Перв.Уп.Втор.Уп.Пр.Акционерное Общество "Биохимик" (АО "Биохимик"), Россия (1325030352); | F10: 20 | G10: 581,57 | H10: ЛП-№(004017)-(РГ-RU) | I10: 29.07.2024 25-7-4294299-сниж | J10: 4602509050768 | K10: 45502 | L10: ='Н(М)ЦК'!F12 -> шт. | M10: =G10/20 -> 29.08

Sheet Средневзвешенная цена
J1: Приложение № 3
A4: Расчет средневзвешенной цены контракта
A5: в соответствии с Приказом Министерства здравоохранения Российской Федерации от 19.12.2019 г. № 1064н
A6: ='Н(М)ЦК'!A6:N6 -> Поставка лекарственных препаратов ЖНВЛП+СЗЛС (заявка № 74)
A7: № п/п | B7: МНН | C7: Характеристика товара (лекарственная форма, дозировка) | D7: Дозировка в соответствии с ЕСКЛП, ГРЛС | E7: Ед. измерения | F7: Кол-во по контракту | G7: Сумма по контракту, руб. | H7: Контракт № 142521-24LO от 29.07.2024 г. цена за ед. изм. (без НДС и оптовой надбавки), руб. | I7: Контракт № 132090-24LO от 23.04.2024 г. цена за ед. изм. (без НДС и оптовой надбавки), руб. | J7: Средневзвешенная цена (без НДС и оптовой надбавки), руб.
A8: ='Н(М)ЦК'!A8 -> 1 | B8: ='Н(М)ЦК'!B8 -> ИНДАПАМИД | C8: ='Н(М)ЦК'!D8 -> Таблетки, покрытые оболочкой | D8: ='Н(М)ЦК'!E8 -> 2.5 мг | E8: ='Н(М)ЦК'!F8 -> шт. | J8: *
A9: ='Н(М)ЦК'!A9 -> 2 | B9: ='Н(М)ЦК'!B9 -> КАПТОПРИЛ | C9: ='Н(М)ЦК'!D9 -> Таблетки | D9: ='Н(М)ЦК'!E9 -> 50 мг | E9: ='Н(М)ЦК'!F9 -> шт. | F9: 400 | G9: 1138.2 | H9: 2.19 | J9: =H9 -> 2.19
A10: ='Н(М)ЦК'!A10 -> 3 | B10: ='Н(М)ЦК'!B10 -> ЛОЗАРТАН | C10: ='Н(М)ЦК'!D10 -> Таблетки, покрытые оболочкой | D10: ='Н(М)ЦК'!E10 -> 50 мг | E10: ='Н(М)ЦК'!F10 -> шт. | F10: 600 | G10: 3599 | H10: 5.5 | J10: =H10 -> 5.5
A11: ='Н(М)ЦК'!A11 -> 4 | B11: ='Н(М)ЦК'!B11 -> СПИРОНОЛАКТОН | C11: ='Н(М)ЦК'!D11 -> Таблетки | D11: ='Н(М)ЦК'!E11 -> 25 мг | E11: ='Н(М)ЦК'!F11 -> шт. | J11: *
A12: ='Н(М)ЦК'!A12 -> 5 | B12: ='Н(М)ЦК'!B12 -> АПИКСАБАН | C12: ='Н(М)ЦК'!D12 -> Таблетки, покрытые оболочкой | D12: ='Н(М)ЦК'!E12 -> 5 мг | E12: ='Н(М)ЦК'!F12 -> шт. | J12: *
B16: * Расчет средневзвешеной цены невозможен в связи с отсутствием заключенных и исполненных Заказчиком государственных контрактов на поставку планируемого к закупке лекарственного препарата с учетом эквивалентных лекарственных форм и дозировок за 12 месяцев, предшествующих месяцу расчета.
