Workbook

Sheet Договор шаблон
G1: ДОГОВОР № | N1: , именуемый в дальнейшем "Заказчик", в лице
D2: ИКЗ | N2: , действующего на основании
N3: с одной стороны
A4: Ленинградская область г. Гатчина | K4: "_____"__________2026г. | N4: , и ____________________________________________________, в лице _____________________________________________, действующего на основании свидетельства, именуемого в дальнейшем «Поставщик», с другой стороны, далее совместно именуемые «Стороны»,
N5: с соблюдением требований Гражданского кодекса Российской Федерации, Федерального закона от 05.04.2013 № 44-ФЗ "О контрактной системе в сфере закупок товаров, работ, услуг для обеспечения государственных и муниципальных нужд" (далее – Закон №44- ФЗ), на основании п. 4, 5 ч. 1 ст. 93 Закона №44 - ФЗ заключили настоящий договор (далее - Договор) о нижеследующем:
A6: =CONCATENATE([1]Ввод!C4,N1,[1]Ввод!C6,,[1]Наборка!A36,[1]Ввод!D6,N2,[1]Ввод!G6,N3,N4,N5) -> МБОУ "Гатчинская СОШ № 7", именуемый в дальнейшем "Заказчик", в лице Директора Люсовой Ирины Николаевны, действующего на основании устава с одной стороны, и ____________________________________________________, в лице _____________________________________________, действующего на основании свидетельства, именуемого в дальнейшем «Поставщик», с другой стороны, далее совместно именуемые «Стороны», с соблюдением требований Гражданского кодекса Российской Федерации, Федерального закона от 05.04.2013 № 44-ФЗ "О контрактной системе в сфере закупок товаров, работ, услуг для обеспечения государственных и муниципальных нужд" (далее – Закон №44- ФЗ), на основании п. 4, 5 ч. 1 ст. 93 Закона №44 - ФЗ заключили настоящий договор (далее - Договор) о нижеследующем:
A8: 1.Предмет Договора
A9: 1.1. По настоящему Договору Поставщик принимает на себя обязательства по поставке товаров (далее - Товар) в соответствии со Спецификацией (Приложение № 1 к Договору), а Заказчик обязуется принять и оплатить Товар в соответствии с условиями настоящего Договора.
A10: 1.2. Цена, количество, ассортимент, качественные характеристики, наименование Товара, подлежащего поставке, в рамках настоящего договора, указаны в Спецификации (Приложение№1), которая является неотъемлемой частью настоящего Договора.
A12: 2. Цена Договора и порядок расчетов | N12: 2.1.
A13: =CONCATENATE(N12,N13,R13,N14) -> 2.1. Цена договора составляет Тридцать девять тысяч семьдесят девять рублей 76 копеек, НДС _____________________________________________. | N13: Цена договора составляет | Q13: =[1]Ввод!F85 -> 39079.76 | R13: =[2]!прописьсуммы(Q13) -> Тридцать девять тысяч семьдесят девять рублей 76 копеек
A14: 2.2. Цена Договора включает в себя: стоимость товара, расходы, связанные с доставкой, разгрузкой - погрузкой, размещением в местах хранения Заказчика, стоимость упаковки (тары), маркировки, страхование, таможенные платежи (пошлины), другие установленные налоги, сборы и иные расходы, связанные с исполнением Договора. | N14: , НДС _____________________________________________.
A15: Цена Договора является твердой и не может изменяться в ходе исполнения Договора, за исключением случаев, установленных законодательством Российской Федерации. | N15: , НДС ______________________.
A17: 2.3. Оплата Товара производится по факту поставки путем перечисления денежных средств Поставщику в течение 10 (десяти) рабочих дней на основании счета, счета-фактуры на отгруженный Товар (в случае применения Поставщиком общей системы налогообложения), товарной накладной, оформленных в соответствии с требованиями действующих нормативных документов и подписанных уполномоченными представителями сторон.
A18: 2.4. Для проверки исполнения обязательств по Договору, в части их соответствия условиям Договора, Заказчик вправе провести экспертизу. Такая экспертиза проводится Заказчиком своими силами или с привлечением экспертов, экспертных организаций, за исключением случаев, если способ проведения экспертизы прямо определен законодательством.
A19: 2.5. В случае, если Договор заключается с физическим лицом, за исключением индивидуального предпринимателя или иного занимающегося частной практикой лица, в Договор включается обязательное условие об уменьшении суммы, подлежащей уплате физическому лицу, на размер налоговых платежей, связанных с оплатой Договора.
A21: 3. Сроки, порядок и условия поставки товара | N21: 3.1. Срок поставки товара - не позднее | S21: 15 | U21: дней
A22: 3.1. Срок поставки товара - не позднее _____________________ | N22: 3.2. Место поставки товара: | Q22: =[1]Ввод!C14 -> 188301, Ленинградская область, г. Гатчина, ул. Кустова ,44
A23: =CONCATENATE(N22,Q22) -> 3.2. Место поставки товара: 188301, Ленинградская область, г. Гатчина, ул. Кустова ,44 | N23: или самовывоз с адреса:
A24: =CONCATENATE(N23,N24) -> или самовывоз с адреса: _________________________________________________________________ | N24: _________________________________________________________________
A25: Доставка товара к месту приема-передачи товара должна осуществляться силами Поставщика и за его счет, включая погрузку, перевозку и разгрузку товара, точное время и дата поставки должны быть согласованы с Заказчиком.
A26: 3.3. Товар должен быть новым (товаром, который не был в употреблении, ремонте, в том числе, который не был восстановлен).
A27: 3.4. Приемка товара осуществляется Заказчиком по количеству, качеству и ассортименту, которые должны соответствовать указанному в Спецификации, по месту получения товара с участием представителя Поставщика и оформляется путем подписания товарной накладной.
A28: Поставщик вместе с товаром передает Заказчику следующий комплект документов: счет; счет-фактура на отгруженный товар (в случае применения Поставщиком общей системы налогообложения); товарная накладная; документы, подтверждающие качество поставленного товара.
A29: 3.5. Тара и упаковка товара должна обеспечивать полную сохранность от повреждений или порчи во время погрузки, перевозки к конечному пункту назначения и разгрузки и хранение.
A31: 4. Обязанности Сторон
A32: 4.1. Поставщик обязан:
A33: 4.1.1. Осуществить поставку товара в соответствии с Приложением №1 в течение срока, указанного в п.3.1 Договора.
A34: 4.1.2. Гарантировать надлежащее качество поставляемого товара; без дефектов, связанных с материалами и качеством изготовления, в соответствии с техническими характеристиками, указанными техническом задании. Гарантия качества товара: в течение одного года с момента поставки товара.
A35: 4.1.3. Поставить Товар в упаковке, которая бы обеспечивала его сохранность, товарный вид, предохраняла бы от всякого рода повреждений при транспортировке и хранении.
A36: 4.1.4. В случае возникновения обстоятельств, замедляющих поставку или делающих её невозможной, в течение 1 (одного) календарного дня поставить об этом в известность Заказчика в письменном виде.
A37: 4.1.5. Направлять своих представителей для оперативного решения вопросов, возникающих при поставке товара в рамках Договора, наделяя их соответствующими полномочиями.
... A88: 11. Реквизиты сторон:
A89: ЗАКАЗЧИК: | B89: =[1]Ввод!C4 -> МБОУ "Гатчинская СОШ № 7" | G89: ПОСТАВЩИК:
A90: =[1]Ввод!B18 -> Получатель: | B90: =[1]Ввод!C18 -> Комитет финансов Гатчинского муниципального округа (МБОУ Гатчинская СОШ № 7, л/сч 20470501118, 22270501118, 21570501118)
A91: Адрес: | B91: =[1]Ввод!C7 -> 188301, Ленинградская область, г. Гатчина, ул. Беляева, д.14 | G91: Адрес:
A92: ИНН/КПП | B92: =CONCATENATE([1]Ввод!C8,[1]Наборка!A36,[1]Наборка!H36,[1]Наборка!A36,[1]Ввод!C9) -> 4705015973 / 470501001 | G92: ИНН/КПП
A93: Банк | B93: =[1]Ввод!C10 -> ОКЦ № 1 СЕВЕРО-ЗАПАДНОГО ГУ БАНКА РОССИИ//УФК по Ленинградской области, г. Санкт-Петербург | G93: Банк
A94: =[1]Ввод!E10 -> Казнач сч | B94: =[1]Ввод!F10 -> 03234643415180004500 | G94: р/с
A95: =[1]Ввод!B11 -> ЕКС | B95: =[1]Ввод!C11 -> 40102810745370000098 | G95: к/с
...

Sheet Специф шаблон
AB1: Приложение №1
AB2: к договору №
AB3: от | AC3: "___"_______2026
A5: Спецификация
A8: № п/п | C8: Наименование и технические характеристики товара | T8: Товар | Y8: Цена за единицу, рублей | AC8: Общая стоимость, рублей
T9: ед.измерения | W9: кол-во
A10: 1 | C10: 2 | T10: 3 | W10: 4 | Y10: 5 | AC10: 6
A11: 1 | C11: =[1]Ввод!B25 -> Лазурит Бальзам Гель Грейпфрут 500мл *15 | T11: =[1]Ввод!E25 -> шт | U11: 10 | V11: 10 | W11: =[1]Ввод!D25 -> 31 | Y11: =[1]Ввод!F25 -> 130 | Z11: 80 | AA11: 80 | AB11: 80 | AC11: =W11*Y11 -> 4030
A12: 2 | C12: =[1]Ввод!B26 -> Универсальное средство для чистки Domestos (Доместос) Лимонная свежесть, 1 л | T12: =[1]Ввод!E26 -> шт | U12: 10 | V12: 10 | W12: =[1]Ввод!D26 -> 15 | Y12: =[1]Ввод!F26 -> 260 | Z12: 80 | AA12: 80 | AB12: 80 | AC12: =W12*Y12 -> 3900
A13: 3 | C13: =[1]Ввод!B27 -> Аист д/пола антибактериальный "Ландыш" (Санокс - Ботанический Лес) 950мл *10 | T13: =[1]Ввод!E27 -> шт | U13: 10 | V13: 10 | W13: =[1]Ввод!D27 -> 20 | Y13: =[1]Ввод!F27 -> 200 | Z13: 80 | AA13: 80 | AB13: 80 | AC13: =W13*Y13 -> 4000
A14: 4 | C14: =[1]Ввод!B28 -> Чистящее средство для сантехники Санокс гель, 750 мл | T14: =[1]Ввод!E28 -> шт | U14: 10 | V14: 10 | W14: =[1]Ввод!D28 -> 6 | Y14: =[1]Ввод!F28 -> 175 | Z14: 80 | AA14: 80 | AB14: 80 | AC14: =W14*Y14 -> 1050
A15: 5 | C15: =[1]Ввод!B29 -> Мыло туалетное детское Нэфис Алоэ Вера, 90 г | T15: =[1]Ввод!E29 -> шт | U15: 10 | V15: 10 | W15: =[1]Ввод!D29 -> 42 | Y15: =[1]Ввод!F29 -> 45 | Z15: 80 | AA15: 80 | AB15: 80 | AC15: =W15*Y15 -> 1890
A16: 6 | C16: =[1]Ввод!B30 -> Мыло хозяйственное Калужский блеск в прозрачной обертке, 72%, 200 г | T16: =[1]Ввод!E30 -> шт | U16: 10 | V16: 10 | W16: =[1]Ввод!D30 -> 10 | Y16: =[1]Ввод!F30 -> 35 | Z16: 80 | AA16: 80 | AB16: 80 | AC16: =W16*Y16 -> 350
A17: 7 | C17: =[1]Ввод!B31 -> Ст\порошок НК УШАСТЫЙ НЯНЬ 2,4кг | T17: =[1]Ввод!E31 -> шт | U17: 10 | V17: 10 | W17: =[1]Ввод!D31 -> 3 | Y17: =[1]Ввод!F31 -> 655 | Z17: 80 | AA17: 80 | AB17: 80 | AC17: =W17*Y17 -> 1965
A18: 8 | C18: =[1]Ввод!B32 -> Перчатки латекс L "Дуэт" х/б напыление бело-зеленый 90гр в/пакете (ДМ) | T18: =[1]Ввод!E32 -> пар | U18: 10 | V18: 10 | W18: =[1]Ввод!D32 -> 45 | Y18: =[1]Ввод!F32 -> 120 | Z18: 80 | AA18: 80 | AB18: 80 | AC18: =W18*Y18 -> 5400
A19: 9 | C19: =[1]Ввод!B33 -> Перчатки х/б 5 нитей Волна (графит) | T19: =[1]Ввод!E33 -> пар | U19: 10 | V19: 10 | W19: =[1]Ввод!D33 -> 15 | Y19: =[1]Ввод!F33 -> 25 | Z19: 80 | AA19: 80 | AB19: 80 | AC19: =W19*Y19 -> 375
A20: 10 | C20: =[1]Ввод!B34 -> Мешки д/мусора ПНД MirPack 30л. 20шт Хит (8мкм) 50*60 см. Черные *36 | T20: =[1]Ввод!E34 -> шт | U20: 10 | V20: 10 | W20: =[1]Ввод!D34 -> 40 | Y20: =[1]Ввод!F34 -> 50 | Z20: 80 | AA20: 80 | AB20: 80 | AC20: =W20*Y20 -> 2000
A21: 11 | C21: =[1]Ввод!B35 -> Мешки д/мусора ПВД MirPack 120л. 10шт Premium+ (40мкм) Черные *12 | T21: =[1]Ввод!E35 -> шт | U21: 10 | V21: 10 | W21: =[1]Ввод!D35 -> 15 | Y21: =[1]Ввод!F35 -> 200 | Z21: 80 | AA21: 80 | AB21: 80 | AC21: =W21*Y21 -> 3000
A22: 12 | C22: =[1]Ввод!B36 -> Мочалка для посуды York Мини, стальная | T22: =[1]Ввод!E36 -> шт | U22: 10 | V22: 10 | W22: =[1]Ввод!D36 -> 10 | Y22: =[1]Ввод!F36 -> 35 | Z22: 80 | AA22: 80 | AB22: 80 | AC22: =W22*Y22 -> 350
... A70: 60 | C70: =[1]Ввод!B84 -> 0 | T70: =[1]Ввод!E84 -> шт. | U70: 10 | V70: 10 | W70: =[1]Ввод!D84 -> 0 | Y70: =[1]Ввод!F84 -> 0 | Z70: 80 | AA70: 80 | AB70: 80 | AC70: =W70*Y70 -> 0
C72: Цена договора составляет | J72: =[1]Ввод!B87 -> Тридцать девять тысяч семьдесят девять рублей 76 копеек
A73: Цена договора составляет 28280 (Двадцать восемь тысяч двести восемьдесят рублей 00 копеек) , НДС не облагается в связи с освобождением от его уплаты (ст. 145 п.1 НК РФ).
A75: ='[1]Договор 2018'!A89 -> ЗАКАЗЧИК: | S75: ='[1]Договор 2018'!G89 -> ПОСТАВЩИК:
A77: =[1]Ввод!C5 -> Директор
G82: =CONCATENATE([1]Наборка!H36,[1]Наборка!A36,[1]Ввод!D5,[1]Наборка!A36,[1]Наборка!H36) -> / Люсова И. Н. /
A84: МП | S84: МП
A86: =AC3 -> "___"_______2026 | S86: =AC3 -> "___"_______2026
