Workbook

Sheet АСОШ
B1: Муниципальное общеобразовательное бюджетное учреждение "Алексинская средняя общеобразовательная школа" | N1: Приложение
A2: Обоснование начальной (максимальной) цены контракта (Н(М)ЦК) на услугу по организации питания в общеобразовательной организации на 2022-2023 год
A3: № п/п | B3: Наименование | C3: Ед. изм. | D3: Кол-во на 2022 год | E3: Кол-во на 2023 год | F3: Кол-во всего | G3: Коммерческие предложения (руб.) | J3: Однородность совокупности значений выявленных цен, используемых в расчете Н(М)ЦК | M3: Н(М)ЦК, определяемая методом сопоставимых рыночных цен (анализа рынка) на 2022 год | N3: Н(М)ЦК, определяемая методом сопоставимых рыночных цен (анализа рынка) на 2023 год | O3: Н(М)ЦК, определяемая методом сопоставимых рыночных цен (анализа рынка)
G4: Коммерческое предложение № 1 вх. № 1084 от 23.08.2021 | H4: Коммерческое предложение № 2 вх. № 1083 от 23.08.2021 | I4: Коммерческое предложение № 3 вх. № 1082 от 23.08.2021 | J4: Средняя арифметическая цена за единицу <ц> | K4: Среднее квадратичное отклонение | L4: коэффициент вариации цен V (%) (не должен превышать 33%) | M4: Расчет Н(М)ЦК по формуле v - количество (объем) закупаемого товара (работы, услуги); n - количество значений, используемых в расчете; i - номер источника ценовой информации; - цена единицы | N4: Расчет Н(М)ЦК по формуле v - количество (объем) закупаемого товара (работы, услуги); n - количество значений, используемых в расчете; i - номер источника ценовой информации; - цена единицы | O4: Расчет Н(М)ЦК по формуле v - количество (объем) закупаемого товара (работы, услуги); n - количество значений, используемых в расчете; i - номер источника ценовой информации; - цена единицы
A5: 1 | B5: 2 | C5: 3 | D5: 4 | E5: 5 | F5: 6 | G5: 7 | H5: 8 | I5: 9 | J5: 10 | K5: 11 | L5: 12 | M5: 13 | N5: 14 | O5: 15
A6: 3 | B6: Завтрак и обед для обучающихся 1-4 классов | C6: д/дней | D6: 11920 | E6: 11920 | F6: =D6+E6 -> 23840 | G6: 108 | H6: 108 | I6: 108 | J6: =SUM(G6+H6+I6)/3 -> 108 | K6: =STDEV(G6:J6) -> 0 | L6: =K6/J6*100 -> 0 | M6: =D6*J6 -> 1287360 | N6: =E6*J6 -> 1287360 | O6: =M6+N6 -> 2574720
A7: 4 | B7: Завтрак и обед для обучающихся 5-11 классов | C7: д/дней | D7: 10840 | E7: 10840 | F7: =D7+E7 -> 21680 | G7: 108 | H7: 108 | I7: 108 | J7: =SUM(G7+H7+I7)/3 -> 108 | K7: =STDEV(G7:J7) -> 0 | L7: =K7/J7*100 -> 0 | M7: =D7*J7 -> 1170720 | N7: =E7*J7 -> 1170720 | O7: =M7+N7 -> 2341440
A8: 5 | B8: Обеспечение молоком учащихся 1-х – 4-х классов 0,2 л молока 3,2 % жир. на 1-го учащегося | C8: д/дней | D8: 11920 | E8: 11920 | F8: =D8+E8 -> 23840 | G8: 13.5 | H8: 13.5 | I8: 13.5 | J8: =SUM(G8+H8+I8)/3 -> 13.5 | K8: =STDEV(G8:J8) -> 0 | L8: =K8/J8*100 -> 0 | M8: =D8*J8 -> 160920 | N8: =E8*J8 -> 160920 | O8: =M8+N8 -> 321840
A9: ИТОГО: | D9: =SUM(D6:D8) -> 34680 | E9: =SUM(E6:E8) -> 34680 | F9: =SUM(F6:F8) -> 69360 | M9: =SUM(M6:M8) -> 2619000 | N9: =SUM(N6:N8) -> 2619000 | O9: =M9+N9 -> 5238000

Sheet БООШ
B1: Муниципальное общеобразовательное бюджетное учреждение "Бережковская основная общеобразовательная школа" | N1: Приложение
A2: Обоснование начальной (максимальной) цены контракта (Н(М)ЦК) на услугу по организации питания в общеобразовательной организации на 2022-2023 год
A3: № п/п | B3: Наименование | C3: Ед. изм. | D3: Кол-во на 2022 год | E3: Кол-во на 2023 год | F3: Кол-во всего | G3: Коммерческие предложения (руб.) | J3: Однородность совокупности значений выявленных цен, используемых в расчете Н(М)ЦК | M3: Н(М)ЦК, определяемая методом сопоставимых рыночных цен (анализа рынка) на 2022 год | N3: Н(М)ЦК, определяемая методом сопоставимых рыночных цен (анализа рынка) на 2023 год | O3: Н(М)ЦК, определяемая методом сопоставимых рыночных цен (анализа рынка)
G4: Коммерческое предложение № 1 вх. № 1084 от 23.08.2021 | H4: Коммерческое предложение № 2 вх. № 1083 от 23.08.2021 | I4: Коммерческое предложение № 3 вх. № 1082 от 23.08.2021 | J4: Средняя арифметическая цена за единицу <ц> | K4: Среднее квадратичное отклонение | L4: коэффициент вариации цен V (%) (не должен превышать 33%) | M4: Расчет Н(М)ЦК по формуле v - количество (объем) закупаемого товара (работы, услуги); n - количество значений, используемых в расчете; i - номер источника ценовой информации; - цена единицы | N4: Расчет Н(М)ЦК по формуле v - количество (объем) закупаемого товара (работы, услуги); n - количество значений, используемых в расчете; i - номер источника ценовой информации; - цена единицы | O4: Расчет Н(М)ЦК по формуле v - количество (объем) закупаемого товара (работы, услуги); n - количество значений, используемых в расчете; i - номер источника ценовой информации; - цена единицы
A5: 1 | B5: 2 | C5: 3 | D5: 4 | E5: 5 | F5: 6 | G5: 7 | H5: 8 | I5: 9 | J5: 10 | K5: 11 | L5: 12 | M5: 13 | N5: 14 | O5: 15
A6: 3 | B6: Завтрак и обед для обучающихся 1-4 классов | C6: д/дней | D6: 6863 | E6: 6863 | F6: =D6+E6 -> 13726 | G6: 108 | H6: 108 | I6: 108 | J6: =SUM(G6+H6+I6)/3 -> 108 | K6: =STDEV(G6:J6) -> 0 | L6: =K6/J6*100 -> 0 | M6: =D6*J6 -> 741204 | N6: =E6*J6 -> 741204 | O6: =M6+N6 -> 1482408
A7: 4 | B7: Завтрак и обед для обучающихся 5-11 классов | C7: д/дней | D7: 5556 | E7: 5556 | F7: =D7+E7 -> 11112 | G7: 108 | H7: 108 | I7: 108 | J7: =SUM(G7+H7+I7)/3 -> 108 | K7: =STDEV(G7:J7) -> 0 | L7: =K7/J7*100 -> 0 | M7: =D7*J7 -> 600048 | N7: =E7*J7 -> 600048 | O7: =M7+N7 -> 1200096
A8: 5 | B8: Обеспечение молоком учащихся 1-х – 4-х классов 0,2 л молока 3,2 % жир. на 1-го учащегося | C8: д/дней | D8: 6862.9629 | E8: 6862.9629 | F8: =D8+E8 -> 13725.926 | G8: 13.5 | H8: 13.5 | I8: 13.5 | J8: =SUM(G8+H8+I8)/3 -> 13.5 | K8: =STDEV(G8:J8) -> 0 | L8: =K8/J8*100 -> 0 | M8: =D8*J8 -> 92649.999 | N8: =E8*J8 -> 92649.999 | O8: =M8+N8 -> 185300
A9: ИТОГО: | D9: =SUM(D6:D8) -> 19281.963 | E9: =SUM(E6:E8) -> 19281.963 | F9: =SUM(F6:F8) -> 38563.926 | M9: =SUM(M6:M8) -> 1433902 | N9: =SUM(N6:N8) -> 1433902 | O9: =M9+N9 -> 2867804

Sheet ГООШ
B1: Муниципальное общеобразовательное бюджетное учреждение "Гостинопольская основная общеобразовательная школа" | N1: Приложение
A2: Обоснование начальной (максимальной) цены контракта (Н(М)ЦК) на услугу по организации питания в общеобразовательной организации на 2022-2023 год
A3: № п/п | B3: Наименование | C3: Ед. изм. | D3: Кол-во на 2022 год | E3: Кол-во на 2023 год | F3: Кол-во всего | G3: Коммерческие предложения (руб.) | J3: Однородность совокупности значений выявленных цен, используемых в расчете Н(М)ЦК | M3: Н(М)ЦК, определяемая методом сопоставимых рыночных цен (анализа рынка) на 2022 год | N3: Н(М)ЦК, определяемая методом сопоставимых рыночных цен (анализа рынка) на 2023 год | O3: Н(М)ЦК, определяемая методом сопоставимых рыночных цен (анализа рынка)
G4: Коммерческое предложение № 1 вх. № 1084 от 23.08.2021 | H4: Коммерческое предложение № 2 вх. № 1083 от 23.08.2021 | I4: Коммерческое предложение № 3 вх. № 1082 от 23.08.2021 | J4: Средняя арифметическая цена за единицу <ц> | K4: Среднее квадратичное отклонение | L4: коэффициент вариации цен V (%) (не должен превышать 33%) | M4: Расчет Н(М)ЦК по формуле v - количество (объем) закупаемого товара (работы, услуги); n - количество значений, используемых в расчете; i - номер источника ценовой информации; - цена единицы | N4: Расчет Н(М)ЦК по формуле v - количество (объем) закупаемого товара (работы, услуги); n - количество значений, используемых в расчете; i - номер источника ценовой информации; - цена единицы | O4: Расчет Н(М)ЦК по формуле v - количество (объем) закупаемого товара (работы, услуги); n - количество значений, используемых в расчете; i - номер источника ценовой информации; - цена единицы
A5: 1 | B5: 2 | C5: 3 | D5: 4 | E5: 5 | F5: 6 | G5: 7 | H5: 8 | I5: 9 | J5: 10 | K5: 11 | L5: 12 | M5: 13 | N5: 14 | O5: 15
A6: 3 | B6: Завтрак и обед для обучающихся 1-4 классов | C6: д/дней | D6: 6045 | E6: 6045 | F6: =D6+E6 -> 12090 | G6: 108 | H6: 108 | I6: 108 | J6: =SUM(G6+H6+I6)/3 -> 108 | K6: =STDEV(G6:J6) -> 0 | L6: =K6/J6*100 -> 0 | M6: =D6*J6 -> 652860 | N6: =E6*J6 -> 652860 | O6: =M6+N6 -> 1305720
A7: 4 | B7: Завтрак и обед для обучающихся 5-11 классов | C7: д/дней | D7: 5882 | E7: 5882 | F7: =D7+E7 -> 11764 | G7: 108 | H7: 108 | I7: 108 | J7: =SUM(G7+H7+I7)/3 -> 108 | K7: =STDEV(G7:J7) -> 0 | L7: =K7/J7*100 -> 0 | M7: =D7*J7 -> 635256 | N7: =E7*J7 -> 635256 | O7: =M7+N7 -> 1270512
A8: 5 | B8: Обеспечение молоком учащихся 1-х – 4-х классов 0,2 л молока 3,2 % жир. на 1-го учащегося | C8: д/дней | D8: 6044 | E8: 6044 | F8: =D8+E8 -> 12088 | G8: 13.5 | H8: 13.5 | I8: 13.5 | J8: =SUM(G8+H8+I8)/3 -> 13.5 | K8: =STDEV(G8:J8) -> 0 | L8: =K8/J8*100 -> 0 | M8: =D8*J8 -> 81594 | N8: =E8*J8 -> 81594 | O8: =M8+N8 -> 163188
A9: ИТОГО: | D9: =SUM(D6:D8) -> 17971 | E9: =SUM(E6:E8) -> 17971 | F9: =SUM(F6:F8) -> 35942 | M9: =SUM(M6:M8) -> 1369710 | N9: =SUM(N6:N8) -> 1369710 | O9: =M9+N9 -> 2739420

Sheet ИООШ
B1: Муниципальное общеобразовательное бюджетное учреждение «Иссадская основная общеобразовательная школа» | N1: Приложение
A2: Обоснование начальной (максимальной) цены контракта (Н(М)ЦК) на услугу по организации питания в общеобразовательной организации на 2022-2023 год
A3: № п/п | B3: Наименование | C3: Ед. изм. | D3: Кол-во на 2022 год | E3: Кол-во на 2023 год | F3: Кол-во всего | G3: Коммерческие предложения (руб.) | J3: Однородность совокупности значений выявленных цен, используемых в расчете Н(М)ЦК | M3: Н(М)ЦК, определяемая методом сопоставимых рыночных цен (анализа рынка) на 2022 год | N3: Н(М)ЦК, определяемая методом сопоставимых рыночных цен (анализа рынка) на 2023 год | O3: Н(М)ЦК, определяемая методом сопоставимых рыночных цен (анализа рынка)
G4: Коммерческое предложение № 1 вх. № 1084 от 23.08.2021 | H4: Коммерческое предложение № 2 вх. № 1083 от 23.08.2021 | I4: Коммерческое предложение № 3 вх. № 1082 от 23.08.2021 | J4: Средняя арифметическая цена за единицу <ц> | K4: Среднее квадратичное отклонение | L4: коэффициент вариации цен V (%) (не должен превышать 33%) | M4: Расчет Н(М)ЦК по формуле v - количество (объем) закупаемого товара (работы, услуги); n - количество значений, используемых в расчете; i - номер источника ценовой информации; - цена единицы | N4: Расчет Н(М)ЦК по формуле v - количество (объем) закупаемого товара (работы, услуги); n - количество значений, используемых в расчете; i - номер источника ценовой информации; - цена единицы | O4: Расчет Н(М)ЦК по формуле v - количество (объем) закупаемого товара (работы, услуги); n - количество значений, используемых в расчете; i - номер источника ценовой информации; - цена единицы
A5: 1 | B5: 2 | C5: 3 | D5: 4 | E5: 5 | F5: 6 | G5: 7 | H5: 8 | I5: 9 | J5: 10 | K5: 11 | L5: 12 | M5: 13 | N5: 14 | O5: 15
A6: 3 | B6: Завтрак и обед для обучающихся 1-4 классов | C6: д/дней | D6: 4240 | E6: 4240 | F6: =D6+E6 -> 8480 | G6: 108 | H6: 108 | I6: 108 | J6: =SUM(G6+H6+I6)/3 -> 108 | K6: =STDEV(G6:J6) -> 0 | L6: =K6/J6*100 -> 0 | M6: =D6*J6 -> 457920 | N6: =E6*J6 -> 457920 | O6: =M6+N6 -> 915840
A7: 4 | B7: Завтрак и обед для обучающихся 5-11 классов | C7: д/дней | D7: 4678 | E7: 4678 | F7: =D7+E7 -> 9356 | G7: 108 | H7: 108 | I7: 108 | J7: =SUM(G7+H7+I7)/3 -> 108 | K7: =STDEV(G7:J7) -> 0 | L7: =K7/J7*100 -> 0 | M7: =D7*J7 -> 505224 | N7: =E7*J7 -> 505224 | O7: =M7+N7 -> 1010448
A8: 5 | B8: Обеспечение молоком учащихся 1-х – 4-х классов 0,2 л молока 3,2 % жир. на 1-го учащегося | C8: д/дней | D8: 4240 | E8: 4240 | F8: =D8+E8 -> 8480 | G8: 13.5 | H8: 13.5 | I8: 13.5 | J8: =SUM(G8+H8+I8)/3 -> 13.5 | K8: =STDEV(G8:J8) -> 0 | L8: =K8/J8*100 -> 0 | M8: =D8*J8 -> 57240 | N8: =E8*J8 -> 57240 | O8: =M8+N8 -> 114480
A9: ИТОГО: | D9: =SUM(D6:D8) -> 13158 | E9: =SUM(E6:E8) -> 13158 | F9: =SUM(F6:F8) -> 26316 | M9: =SUM(M6:M8) -> 1020384 | N9: =SUM(N6:N8) -> 1020384 | O9: =M9+N9 -> 2040768

Sheet КСОШ
B1: Муниципальное общеобразовательное бюджетное учреждение "Кисельнинская средняя общеобразовательная школа" | N1: Приложение
A2: Обоснование начальной (максимальной) цены контракта (Н(М)ЦК) на услугу по организации питания в общеобразовательной организации на 2022-2023 год
A3: № п/п | B3: Наименование | C3: Ед. изм. | D3: Кол-во на 2022 год | E3: Кол-во на 2023 год | F3: Кол-во всего | G3: Коммерческие предложения (руб.) | J3: Однородность совокупности значений выявленных цен, используемых в расчете Н(М)ЦК | M3: Н(М)ЦК, определяемая методом сопоставимых рыночных цен (анализа рынка) на 2022 год | N3: Н(М)ЦК, определяемая методом сопоставимых рыночных цен (анализа рынка) на 2023 год | O3: Н(М)ЦК, определяемая методом сопоставимых рыночных цен (анализа рынка)
G4: Коммерческое предложение № 1 вх. № 1084 от 23.08.2021 | H4: Коммерческое предложение № 2 вх. № 1083 от 23.08.2021 | I4: Коммерческое предложение № 3 вх. № 1082 от 23.08.2021 | J4: Средняя арифметическая цена за единицу <ц> | K4: Среднее квадратичное отклонение | L4: коэффициент вариации цен V (%) (не должен превышать 33%) | M4: Расчет Н(М)ЦК по формуле v - количество (объем) закупаемого товара (работы, услуги); n - количество значений, используемых в расчете; i - номер источника ценовой информации; - цена единицы | N4: Расчет Н(М)ЦК по формуле v - количество (объем) закупаемого товара (работы, услуги); n - количество значений, используемых в расчете; i - номер источника ценовой информации; - цена единицы | O4: Расчет Н(М)ЦК по формуле v - количество (объем) закупаемого товара (работы, услуги); n - количество значений, используемых в расчете; i - номер источника ценовой информации; - цена единицы
A5: 1 | B5: 2 | C5: 3 | D5: 4 | E5: 5 | F5: 6 | G5: 7 | H5: 8 | I5: 9 | J5: 10 | K5: 11 | L5: 12 | M5: 13 | N5: 14 | O5: 15
A6: 3 | B6: Завтрак и обед для обучающихся 1-4 классов | C6: д/дней | D6: 12000 | E6: 12000 | F6: =D6+E6 -> 24000 | G6: 108 | H6: 108 | I6: 108 | J6: =SUM(G6+H6+I6)/3 -> 108 | K6: =STDEV(G6:J6) -> 0 | L6: =K6/J6*100 -> 0 | M6: =D6*J6 -> 1296000 | N6: =E6*J6 -> 1296000 | O6: =M6+N6 -> 2592000
A7: 4 | B7: Завтрак и обед для обучающихся 5-11 классов | C7: д/дней | D7: 6500 | E7: 6500 | F7: =D7+E7 -> 13000 | G7: 108 | H7: 108 | I7: 108 | J7: =SUM(G7+H7+I7)/3 -> 108 | K7: =STDEV(G7:J7) -> 0 | L7: =K7/J7*100 -> 0 | M7: =D7*J7 -> 702000 | N7: =E7*J7 -> 702000 | O7: =M7+N7 -> 1404000
A8: 5 | B8: Обеспечение молоком учащихся 1-х – 4-х классов 0,2 л молока 3,2 % жир. на 1-го учащегося | C8: д/дней | D8: 12000 | E8: 12000 | F8: =D8+E8 -> 24000 | G8: 13.5 | H8: 13.5 | I8: 13.5 | J8: =SUM(G8+H8+I8)/3 -> 13.5 | K8: =STDEV(G8:J8) -> 0 | L8: =K8/J8*100 -> 0 | M8: =D8*J8 -> 162000 | N8: =E8*J8 -> 162000 | O8: =M8+N8 -> 324000
A9: ИТОГО: | D9: =SUM(D6:D8) -> 30500 | E9: =SUM(E6:E8) -> 30500 | F9: =SUM(F6:F8) -> 61000 | M9: =SUM(M6:M8) -> 2160000 | N9: =SUM(N6:N8) -> 2160000 | O9: =M9+N9 -> 4320000

Sheet ПСОШ
B1: Муниципальное общеобразовательное бюджетное учреждение «Пашская средняя общеобразовательная школа» | N1: Приложение
A2: Обоснование начальной (максимальной) цены контракта (Н(М)ЦК) на услугу по организации питания в общеобразовательной организации на 2022-2023 год
A3: № п/п | B3: Наименование | C3: Ед. изм. | D3: Кол-во на 2022 год | E3: Кол-во на 2023 год | F3: Кол-во всего | G3: Коммерческие предложения (руб.) | J3: Однородность совокупности значений выявленных цен, используемых в расчете Н(М)ЦК | M3: Н(М)ЦК, определяемая методом сопоставимых рыночных цен (анализа рынка) на 2022 год | N3: Н(М)ЦК, определяемая методом сопоставимых рыночных цен (анализа рынка) на 2023 год | O3: Н(М)ЦК, определяемая методом сопоставимых рыночных цен (анализа рынка)
G4: Коммерческое предложение № 1 вх. № 1084 от 23.08.2021 | H4: Коммерческое предложение № 2 вх. № 1083 от 23.08.2021 | I4: Коммерческое предложение № 3 вх. № 1082 от 23.08.2021 | J4: Средняя арифметическая цена за единицу <ц> | K4: Среднее квадратичное отклонение | L4: коэффициент вариации цен V (%) (не должен превышать 33%) | M4: Расчет Н(М)ЦК по формуле v - количество (объем) закупаемого товара (работы, услуги); n - количество значений, используемых в расчете; i - номер источника ценовой информации; - цена единицы | N4: Расчет Н(М)ЦК по формуле v - количество (объем) закупаемого товара (работы, услуги); n - количество значений, используемых в расчете; i - номер источника ценовой информации; - цена единицы | O4: Расчет Н(М)ЦК по формуле v - количество (объем) закупаемого товара (работы, услуги); n - количество значений, используемых в расчете; i - номер источника ценовой информации; - цена единицы
A5: 1 | B5: 2 | C5: 3 | D5: 4 | E5: 5 | F5: 6 | G5: 7 | H5: 8 | I5: 9 | J5: 10 | K5: 11 | L5: 12 | M5: 13 | N5: 14 | O5: 15
A6: 3 | B6: Завтрак и обед для обучающихся 1-4 классов | C6: д/дней | D6: 22100 | E6: 22100 | F6: =D6+E6 -> 44200 | G6: 108 | H6: 108 | I6: 108 | J6: =SUM(G6+H6+I6)/3 -> 108 | K6: =STDEV(G6:J6) -> 0 | L6: =K6/J6*100 -> 0 | M6: =D6*J6 -> 2386800 | N6: =E6*J6 -> 2386800 | O6: =M6+N6 -> 4773600
A7: 4 | B7: Завтрак и обед для обучающихся 5-11 классов | C7: д/дней | D7: 14450 | E7: 14450 | F7: =D7+E7 -> 28900 | G7: 108 | H7: 108 | I7: 108 | J7: =SUM(G7+H7+I7)/3 -> 108 | K7: =STDEV(G7:J7) -> 0 | L7: =K7/J7*100 -> 0 | M7: =D7*J7 -> 1560600 | N7: =E7*J7 -> 1560600 | O7: =M7+N7 -> 3121200
A8: 5 | B8: Обеспечение молоком учащихся 1-х – 4-х классов 0,2 л молока 3,2 % жир. на 1-го учащегося | C8: д/дней | D8: 22100 | E8: 22100 | F8: =D8+E8 -> 44200 | G8: 13.5 | H8: 13.5 | I8: 13.5 | J8: =SUM(G8+H8+I8)/3 -> 13.5 | K8: =STDEV(G8:J8) -> 0 | L8: =K8/J8*100 -> 0 | M8: =D8*J8 -> 298350 | N8: =E8*J8 -> 298350 | O8: =M8+N8 -> 596700
A9: ИТОГО: | D9: =SUM(D6:D8) -> 58650 | E9: =SUM(E6:E8) -> 58650 | F9: =SUM(F6:F8) -> 117300 | M9: =SUM(M6:M8) -> 4245750 | N9: =SUM(N6:N8) -> 4245750 | O9: =M9+N9 -> 8491500

Sheet ПООШ
B1: Муниципальное общеобразовательное бюджетное учреждение "Потанинская основная общеобразовательная школа" | N1: Приложение
A2: Обоснование начальной (максимальной) цены контракта (Н(М)ЦК) на услугу по организации питания в общеобразовательной организации на 2022-2023 год
A3: № п/п | B3: Наименование | C3: Ед. изм. | D3: Кол-во на 2022 год | E3: Кол-во на 2023 год | F3: Кол-во всего | G3: Коммерческие предложения (руб.) | J3: Однородность совокупности значений выявленных цен, используемых в расчете Н(М)ЦК | M3: Н(М)ЦК, определяемая методом сопоставимых рыночных цен (анализа рынка) на 2022 год | N3: Н(М)ЦК, определяемая методом сопоставимых рыночных цен (анализа рынка) на 2023 год | O3: Н(М)ЦК, определяемая методом сопоставимых рыночных цен (анализа рынка)
G4: Коммерческое предложение № 1 вх. № 1084 от 23.08.2021 | H4: Коммерческое предложение № 2 вх. № 1083 от 23.08.2021 | I4: Коммерческое предложение № 3 вх. № 1082 от 23.08.2021 | J4: Средняя арифметическая цена за единицу <ц> | K4: Среднее квадратичное отклонение | L4: коэффициент вариации цен V (%) (не должен превышать 33%) | M4: Расчет Н(М)ЦК по формуле v - количество (объем) закупаемого товара (работы, услуги); n - количество значений, используемых в расчете; i - номер источника ценовой информации; - цена единицы | N4: Расчет Н(М)ЦК по формуле v - количество (объем) закупаемого товара (работы, услуги); n - количество значений, используемых в расчете; i - номер источника ценовой информации; - цена единицы | O4: Расчет Н(М)ЦК по формуле v - количество (объем) закупаемого товара (работы, услуги); n - количество значений, используемых в расчете; i - номер источника ценовой информации; - цена единицы
A5: 1 | B5: 2 | C5: 3 | D5: 4 | E5: 5 | F5: 6 | G5: 7 | H5: 8 | I5: 9 | J5: 10 | K5: 11 | L5: 12 | M5: 13 | N5: 14 | O5: 15
A6: 3 | B6: Завтрак и обед для обучающихся 1-4 классов | C6: д/дней | D6: 3540 | E6: 3540 | F6: =D6+E6 -> 7080 | G6: 108 | H6: 108 | I6: 108 | J6: =SUM(G6+H6+I6)/3 -> 108 | K6: =STDEV(G6:J6) -> 0 | L6: =K6/J6*100 -> 0 | M6: =D6*J6 -> 382320 | N6: =E6*J6 -> 382320 | O6: =M6+N6 -> 764640
A7: 4 | B7: Завтрак и обед для обучающихся 5-11 классов | C7: д/дней | D7: 3393 | E7: 3393 | F7: =D7+E7 -> 6786 | G7: 108 | H7: 108 | I7: 108 | J7: =SUM(G7+H7+I7)/3 -> 108 | K7: =STDEV(G7:J7) -> 0 | L7: =K7/J7*100 -> 0 | M7: =D7*J7 -> 366444 | N7: =E7*J7 -> 366444 | O7: =M7+N7 -> 732888
A8: 5 | B8: Обеспечение молоком учащихся 1-х – 4-х классов 0,2 л молока 3,2 % жир. на 1-го учащегося | C8: д/дней | D8: 3933 | E8: 3933 | F8: =D8+E8 -> 7866 | G8: 13.5 | H8: 13.5 | I8: 13.5 | J8: =SUM(G8+H8+I8)/3 -> 13.5 | K8: =STDEV(G8:J8) -> 0 | L8: =K8/J8*100 -> 0 | M8: =D8*J8 -> 53095.5 | N8: =E8*J8 -> 53095.5 | O8: =M8+N8 -> 106191
A9: ИТОГО: | D9: =SUM(D6:D8) -> 10866 | E9: =SUM(E6:E8) -> 10866 | F9: =SUM(F6:F8) -> 21732 | M9: =SUM(M6:M8) -> 801859.5 | N9: =SUM(N6:N8) -> 801859.5 | O9: =M9+N9 -> 1603719

Sheet ССОШ
B1: Муниципальное общеобразовательное бюджетное учреждение «Староладожская средняя общеобразовательная школа имени Героя Советского Союза В.Ф. Голубева» | N1: Приложение
A2: Обоснование начальной (максимальной) цены контракта (Н(М)ЦК) на услугу на поставку хозяйственных товаров
A3: № п/п | B3: Наименование | C3: Ед. изм. | D3: Кол-во на 2025 год | E3: Кол-во на 2026 год | F3: Кол-во всего | G3: Коммерческие предложения (руб.) | J3: Однородность совокупности значений выявленных цен, используемых в расчете Н(М)ЦК | M3: Н(М)ЦК, определяемая методом сопоставимых рыночных цен (анализа рынка) на 2022 год | N3: Н(М)ЦК, определяемая методом сопоставимых рыночных цен (анализа рынка) на 2023 год | O3: Н(М)ЦК, определяемая методом сопоставимых рыночных цен (анализа рынка)
G4: Коммерческое предложение № 1 от 11.09.2026 | H4: Коммерческое предложение № 2 от 14.09.2026 | I4: Коммерческое предложение № 3 от 14.09.2026 | J4: Средняя арифметическая цена за единицу <ц> | K4: Среднее квадратичное отклонение | L4: коэффициент вариации цен V (%) (не должен превышать 33%) | M4: Расчет Н(М)ЦК по формуле v - количество (объем) закупаемого товара (работы, услуги); n - количество значений, используемых в расчете; i - номер источника ценовой информации; - цена единицы | N4: Расчет Н(М)ЦК по формуле v - количество (объем) закупаемого товара (работы, услуги); n - количество значений, используемых в расчете; i - номер источника ценовой информации; - цена единицы | O4: Расчет Н(М)ЦК по формуле v - количество (объем) закупаемого товара (работы, услуги); n - количество значений, используемых в расчете; i - номер источника ценовой информации; - цена единицы
A5: 1 | B5: 2 | C5: 3 | D5: 4 | E5: 5 | F5: 6 | G5: 7 | H5: 8 | I5: 9 | J5: 10 | K5: 11 | L5: 12 | M5: 13 | N5: 14 | O5: 15
A6: 3 | B6: Хозяйственные товары(согласно приложения) | C6: га | D6: 0 | E6: 0 | F6: =D6+E6 -> 0 | G6: 19282.03 | H6: 21765 | I6: 20378.84 | J6: =SUM(G6+H6+I6)/3 -> 20475.29 | K6: =STDEV(G6:J6) -> 1015.96 | L6: =K6/J6*100 -> 4.9618831 | M6: =D6*J6 -> 0 | N6: =E6*J6 -> 0 | O6: =M6+N6 -> 0
A7: 4 | C7: 0
A8: 5 | C8: 0
A9: ИТОГО: | D9: =SUM(D6:D8) -> 0 | E9: =SUM(E6:E8) -> 0 | F9: =SUM(F6:F8) -> 0 | M9: =SUM(M6:M8) -> 0 | N9: =SUM(N6:N8) -> 0 | O9: =M9+N9 -> 0

Sheet УСОШ
B1: Муниципальное общеобразовательное учреждение "Усадищенская средняя общеобразовательная школа" | N1: Приложение
A2: Обоснование начальной (максимальной) цены контракта (Н(М)ЦК) на услугу по организации питания в общеобразовательной организации на 2022-2023 год
A3: № п/п | B3: Наименование | C3: Ед. изм. | D3: Кол-во на 2022 год | E3: Кол-во на 2023 год | F3: Кол-во всего | G3: Коммерческие предложения (руб.) | J3: Однородность совокупности значений выявленных цен, используемых в расчете Н(М)ЦК | M3: Н(М)ЦК, определяемая методом сопоставимых рыночных цен (анализа рынка) на 2022 год | N3: Н(М)ЦК, определяемая методом сопоставимых рыночных цен (анализа рынка) на 2023 год | O3: Н(М)ЦК, определяемая методом сопоставимых рыночных цен (анализа рынка)
G4: Коммерческое предложение № 1 вх. № 1084 от 23.08.2021 | H4: Коммерческое предложение № 2 вх. № 1083 от 23.08.2021 | I4: Коммерческое предложение № 3 вх. № 1082 от 23.08.2021 | J4: Средняя арифметическая цена за единицу <ц> | K4: Среднее квадратичное отклонение | L4: коэффициент вариации цен V (%) (не должен превышать 33%) | M4: Расчет Н(М)ЦК по формуле v - количество (объем) закупаемого товара (работы, услуги); n - количество значений, используемых в расчете; i - номер источника ценовой информации; - цена единицы | N4: Расчет Н(М)ЦК по формуле v - количество (объем) закупаемого товара (работы, услуги); n - количество значений, используемых в расчете; i - номер источника ценовой информации; - цена единицы | O4: Расчет Н(М)ЦК по формуле v - количество (объем) закупаемого товара (работы, услуги); n - количество значений, используемых в расчете; i - номер источника ценовой информации; - цена единицы
A5: 1 | B5: 2 | C5: 3 | D5: 4 | E5: 5 | F5: 6 | G5: 7 | H5: 8 | I5: 9 | J5: 10 | K5: 11 | L5: 12 | M5: 13 | N5: 14 | O5: 15
A6: 3 | B6: Завтрак и обед для обучающихся 1-4 классов | C6: д/дней | D6: 6966 | E6: 6966 | F6: =D6+E6 -> 13932 | G6: 108 | H6: 108 | I6: 108 | J6: =SUM(G6+H6+I6)/3 -> 108 | K6: =STDEV(G6:J6) -> 0 | L6: =K6/J6*100 -> 0 | M6: =D6*J6 -> 752328 | N6: =E6*J6 -> 752328 | O6: =M6+N6 -> 1504656
A7: 4 | B7: Завтрак и обед для обучающихся 5-11 классов | C7: д/дней | D7: 8978 | E7: 8978 | F7: =D7+E7 -> 17956 | G7: 108 | H7: 108 | I7: 108 | J7: =SUM(G7+H7+I7)/3 -> 108 | K7: =STDEV(G7:J7) -> 0 | L7: =K7/J7*100 -> 0 | M7: =D7*J7 -> 969624 | N7: =E7*J7 -> 969624 | O7: =M7+N7 -> 1939248
A8: 5 | B8: Обеспечение молоком учащихся 1-х – 4-х классов 0,2 л молока 3,2 % жир. на 1-го учащегося | C8: д/дней | D8: 6966 | E8: 6966 | F8: =D8+E8 -> 13932 | G8: 13.5 | H8: 13.5 | I8: 13.5 | J8: =SUM(G8+H8+I8)/3 -> 13.5 | K8: =STDEV(G8:J8) -> 0 | L8: =K8/J8*100 -> 0 | M8: =D8*J8 -> 94041 | N8: =E8*J8 -> 94041 | O8: =M8+N8 -> 188082
A9: ИТОГО: | D9: =SUM(D6:D8) -> 22910 | E9: =SUM(E6:E8) -> 22910 | F9: =SUM(F6:F8) -> 45820 | M9: =SUM(M6:M8) -> 1815993 | N9: =SUM(N6:N8) -> 1815993 | O9: =M9+N9 -> 3631986

Sheet ВСОШ1
B1: Муниципальное общеобразовательное бюджетное учреждение "Волховская средняя общеобразовательная школа №1" | N1: Приложение
A2: Обоснование начальной (максимальной) цены контракта (Н(М)ЦК) на услугу по организации питания в общеобразовательной организации на 2022-2023 год
A3: № п/п | B3: Наименование | C3: Ед. изм. | D3: Кол-во на 2022 год | E3: Кол-во на 2023 год | F3: Кол-во всего | G3: Коммерческие предложения (руб.) | J3: Однородность совокупности значений выявленных цен, используемых в расчете Н(М)ЦК | M3: Н(М)ЦК, определяемая методом сопоставимых рыночных цен (анализа рынка) на 2022 год | N3: Н(М)ЦК, определяемая методом сопоставимых рыночных цен (анализа рынка) на 2023 год | O3: Н(М)ЦК, определяемая методом сопоставимых рыночных цен (анализа рынка)
G4: Коммерческое предложение № 1 вх. № 1084 от 23.08.2021 | H4: Коммерческое предложение № 2 вх. № 1083 от 23.08.2021 | I4: Коммерческое предложение № 3 вх. № 1082 от 23.08.2021 | J4: Средняя арифметическая цена за единицу <ц> | K4: Среднее квадратичное отклонение | L4: коэффициент вариации цен V (%) (не должен превышать 33%) | M4: Расчет Н(М)ЦК по формуле v - количество (объем) закупаемого товара (работы, услуги); n - количество значений, используемых в расчете; i - номер источника ценовой информации; - цена единицы | N4: Расчет Н(М)ЦК по формуле v - количество (объем) закупаемого товара (работы, услуги); n - количество значений, используемых в расчете; i - номер источника ценовой информации; - цена единицы | O4: Расчет Н(М)ЦК по формуле v - количество (объем) закупаемого товара (работы, услуги); n - количество значений, используемых в расчете; i - номер источника ценовой информации; - цена единицы
A5: 1 | B5: 2 | C5: 3 | D5: 4 | E5: 5 | F5: 6 | G5: 7 | H5: 8 | I5: 9 | J5: 10 | K5: 11 | L5: 12 | M5: 13 | N5: 14 | O5: 15
A6: 3 | B6: Завтрак и обед для обучающихся 1-4 классов | C6: д/дней | D6: 43722 | E6: 43722 | F6: =D6+E6 -> 87444 | G6: 108 | H6: 108 | I6: 108 | J6: =SUM(G6+H6+I6)/3 -> 108 | K6: =STDEV(G6:J6) -> 0 | L6: =K6/J6*100 -> 0 | M6: =D6*J6 -> 4721976 | N6: =E6*J6 -> 4721976 | O6: =M6+N6 -> 9443952
A7: 4 | B7: Завтрак и обед для обучающихся 5-11 классов | C7: д/дней | D7: 4719 | E7: 4719 | F7: =D7+E7 -> 9438 | G7: 108 | H7: 108 | I7: 108 | J7: =SUM(G7+H7+I7)/3 -> 108 | K7: =STDEV(G7:J7) -> 0 | L7: =K7/J7*100 -> 0 | M7: =D7*J7 -> 509652 | N7: =E7*J7 -> 509652 | O7: =M7+N7 -> 1019304
A8: 5 | B8: Обеспечение молоком учащихся 1-х – 4-х классов 0,2 л молока 3,2 % жир. на 1-го учащегося | C8: д/дней | D8: 43722 | E8: 43722 | F8: =D8+E8 -> 87444 | G8: 13.5 | H8: 13.5 | I8: 13.5 | J8: =SUM(G8+H8+I8)/3 -> 13.5 | K8: =STDEV(G8:J8) -> 0 | L8: =K8/J8*100 -> 0 | M8: =D8*J8 -> 590247 | N8: =E8*J8 -> 590247 | O8: =M8+N8 -> 1180494
A9: ИТОГО: | D9: =SUM(D6:D8) -> 92163 | E9: =SUM(E6:E8) -> 92163 | F9: =SUM(F6:F8) -> 184326 | M9: =SUM(M6:M8) -> 5821875 | N9: =SUM(N6:N8) -> 5821875 | O9: =M9+N9 -> 11643750

Sheet ВСОШ5
B1: Муниципальное общеобразовательное бюджетное учреждение "Волховская средняя общеобразовательная школа №5" | N1: Приложение
A2: Обоснование начальной (максимальной) цены контракта (Н(М)ЦК) на услугу по организации питания в общеобразовательной организации на 2022-2023 год
A3: № п/п | B3: Наименование | C3: Ед. изм. | D3: Кол-во на 2022 год | E3: Кол-во на 2023 год | F3: Кол-во всего | G3: Коммерческие предложения (руб.) | J3: Однородность совокупности значений выявленных цен, используемых в расчете Н(М)ЦК | M3: Н(М)ЦК, определяемая методом сопоставимых рыночных цен (анализа рынка) на 2022 год | N3: Н(М)ЦК, определяемая методом сопоставимых рыночных цен (анализа рынка) на 2023 год | O3: Н(М)ЦК, определяемая методом сопоставимых рыночных цен (анализа рынка)
G4: Коммерческое предложение № 1 вх. № 1084 от 23.08.2021 | H4: Коммерческое предложение № 2 вх. № 1083 от 23.08.2021 | I4: Коммерческое предложение № 3 вх. № 1082 от 23.08.2021 | J4: Средняя арифметическая цена за единицу <ц> | K4: Среднее квадратичное отклонение | L4: коэффициент вариации цен V (%) (не должен превышать 33%) | M4: Расчет Н(М)ЦК по формуле v - количество (объем) закупаемого товара (работы, услуги); n - количество значений, используемых в расчете; i - номер источника ценовой информации; - цена единицы | N4: Расчет Н(М)ЦК по формуле v - количество (объем) закупаемого товара (работы, услуги); n - количество значений, используемых в расчете; i - номер источника ценовой информации; - цена единицы | O4: Расчет Н(М)ЦК по формуле v - количество (объем) закупаемого товара (работы, услуги); n - количество значений, используемых в расчете; i - номер источника ценовой информации; - цена единицы
A5: 1 | B5: 2 | C5: 3 | D5: 4 | E5: 5 | F5: 6 | G5: 7 | H5: 8 | I5: 9 | J5: 10 | K5: 11 | L5: 12 | M5: 13 | N5: 14 | O5: 15
A6: 3 | B6: Завтрак и обед для обучающихся 1-4 классов | C6: д/дней | D6: 15697 | E6: 15697 | F6: =D6+E6 -> 31394 | G6: 108 | H6: 108 | I6: 108 | J6: =SUM(G6+H6+I6)/3 -> 108 | K6: =STDEV(G6:J6) -> 0 | L6: =K6/J6*100 -> 0 | M6: =D6*J6 -> 1695276 | N6: =E6*J6 -> 1695276 | O6: =M6+N6 -> 3390552
A7: 4 | B7: Завтрак и обед для обучающихся 5-11 классов | C7: д/дней | D7: 11538 | E7: 11538 | F7: =D7+E7 -> 23076 | G7: 108 | H7: 108 | I7: 108 | J7: =SUM(G7+H7+I7)/3 -> 108 | K7: =STDEV(G7:J7) -> 0 | L7: =K7/J7*100 -> 0 | M7: =D7*J7 -> 1246104 | N7: =E7*J7 -> 1246104 | O7: =M7+N7 -> 2492208
A8: 5 | B8: Обеспечение молоком учащихся 1-х – 4-х классов 0,2 л молока 3,2 % жир. на 1-го учащегося | C8: д/дней | D8: 15697 | E8: 15697 | F8: =D8+E8 -> 31394 | G8: 13.5 | H8: 13.5 | I8: 13.5 | J8: =SUM(G8+H8+I8)/3 -> 13.5 | K8: =STDEV(G8:J8) -> 0 | L8: =K8/J8*100 -> 0 | M8: =D8*J8 -> 211909.5 | N8: =E8*J8 -> 211909.5 | O8: =M8+N8 -> 423819
A9: ИТОГО: | D9: =SUM(D6:D8) -> 42932 | E9: =SUM(E6:E8) -> 42932 | F9: =SUM(F6:F8) -> 85864 | M9: =SUM(M6:M8) -> 3153289.5 | N9: =SUM(N6:N8) -> 3153289.5 | O9: =M9+N9 -> 6306579

Sheet ВСОШ6
B1: Муниципальное общеобразовательное бюджетное учреждение «Волховская средняя общеобразовательная школа № 6» | N1: Приложение
A2: Обоснование начальной (максимальной) цены контракта (Н(М)ЦК) на услугу по организации питания в общеобразовательной организации на 2022-2023 год
A3: № п/п | B3: Наименование | C3: Ед. изм. | D3: Кол-во на 2022 год | E3: Кол-во на 2023 год | F3: Кол-во всего | G3: Коммерческие предложения (руб.) | J3: Однородность совокупности значений выявленных цен, используемых в расчете Н(М)ЦК | M3: Н(М)ЦК, определяемая методом сопоставимых рыночных цен (анализа рынка) на 2022 год | N3: Н(М)ЦК, определяемая методом сопоставимых рыночных цен (анализа рынка) на 2023 год | O3: Н(М)ЦК, определяемая методом сопоставимых рыночных цен (анализа рынка)
G4: Коммерческое предложение № 1 вх. № 1084 от 23.08.2021 | H4: Коммерческое предложение № 2 вх. № 1083 от 23.08.2021 | I4: Коммерческое предложение № 3 вх. № 1082 от 23.08.2021 | J4: Средняя арифметическая цена за единицу <ц> | K4: Среднее квадратичное отклонение | L4: коэффициент вариации цен V (%) (не должен превышать 33%) | M4: Расчет Н(М)ЦК по формуле v - количество (объем) закупаемого товара (работы, услуги); n - количество значений, используемых в расчете; i - номер источника ценовой информации; - цена единицы | N4: Расчет Н(М)ЦК по формуле v - количество (объем) закупаемого товара (работы, услуги); n - количество значений, используемых в расчете; i - номер источника ценовой информации; - цена единицы | O4: Расчет Н(М)ЦК по формуле v - количество (объем) закупаемого товара (работы, услуги); n - количество значений, используемых в расчете; i - номер источника ценовой информации; - цена единицы
A5: 1 | B5: 2 | C5: 3 | D5: 4 | E5: 5 | F5: 6 | G5: 7 | H5: 8 | I5: 9 | J5: 10 | K5: 11 | L5: 12 | M5: 13 | N5: 14 | O5: 15
A6: 3 | B6: Завтрак и обед для обучающихся 1-4 классов | C6: д/дней | D6: =347*170 -> 58990 | E6: =347*170 -> 58990 | F6: =D6+E6 -> 117980 | G6: 108 | H6: 108 | I6: 108 | J6: =SUM(G6+H6+I6)/3 -> 108 | K6: =STDEV(G6:J6) -> 0 | L6: =K6/J6*100 -> 0 | M6: =D6*J6 -> 6370920 | N6: =E6*J6 -> 6370920 | O6: =M6+N6 -> 12741840
A7: 4 | B7: Завтрак и обед для обучающихся 5-11 классов | C7: д/дней | D7: =86*198 -> 17028 | E7: =86*198 -> 17028 | F7: =D7+E7 -> 34056 | G7: 108 | H7: 108 | I7: 108 | J7: =SUM(G7+H7+I7)/3 -> 108 | K7: =STDEV(G7:J7) -> 0 | L7: =K7/J7*100 -> 0 | M7: =D7*J7 -> 1839024 | N7: =E7*J7 -> 1839024 | O7: =M7+N7 -> 3678048
A8: 5 | B8: Обеспечение молоком учащихся 1-х – 4-х классов 0,2 л молока 3,2 % жир. на 1-го учащегося | C8: д/дней | D8: =347*170 -> 58990 | E8: =347*170 -> 58990 | F8: =D8+E8 -> 117980 | G8: 13.5 | H8: 13.5 | I8: 13.5 | J8: =SUM(G8+H8+I8)/3 -> 13.5 | K8: =STDEV(G8:J8) -> 0 | L8: =K8/J8*100 -> 0 | M8: =D8*J8 -> 796365 | N8: =E8*J8 -> 796365 | O8: =M8+N8 -> 1592730
A9: ИТОГО: | D9: =SUM(D6:D8) -> 135008 | E9: =SUM(E6:E8) -> 135008 | F9: =SUM(F6:F8) -> 270016 | M9: =SUM(M6:M8) -> 9006309 | N9: =SUM(N6:N8) -> 9006309 | O9: =M9+N9 -> 18012618

Sheet ВСОШ7
B1: Муниципальное общеобразовательное бюджетное учреждение "Волховская средняя общеобразовательная школа №7" | N1: Приложение
A2: Обоснование начальной (максимальной) цены контракта (Н(М)ЦК) на услугу по организации питания в общеобразовательной организации на 2022-2023 год
A3: № п/п | B3: Наименование | C3: Ед. изм. | D3: Кол-во на 2022 год | E3: Кол-во на 2023 год | F3: Кол-во всего | G3: Коммерческие предложения (руб.) | J3: Однородность совокупности значений выявленных цен, используемых в расчете Н(М)ЦК | M3: Н(М)ЦК, определяемая методом сопоставимых рыночных цен (анализа рынка) на 2022 год | N3: Н(М)ЦК, определяемая методом сопоставимых рыночных цен (анализа рынка) на 2023 год | O3: Н(М)ЦК, определяемая методом сопоставимых рыночных цен (анализа рынка)
G4: Коммерческое предложение № 1 вх. № 1084 от 23.08.2021 | H4: Коммерческое предложение № 2 вх. № 1083 от 23.08.2021 | I4: Коммерческое предложение № 3 вх. № 1082 от 23.08.2021 | J4: Средняя арифметическая цена за единицу <ц> | K4: Среднее квадратичное отклонение | L4: коэффициент вариации цен V (%) (не должен превышать 33%) | M4: Расчет Н(М)ЦК по формуле v - количество (объем) закупаемого товара (работы, услуги); n - количество значений, используемых в расчете; i - номер источника ценовой информации; - цена единицы | N4: Расчет Н(М)ЦК по формуле v - количество (объем) закупаемого товара (работы, услуги); n - количество значений, используемых в расчете; i - номер источника ценовой информации; - цена единицы | O4: Расчет Н(М)ЦК по формуле v - количество (объем) закупаемого товара (работы, услуги); n - количество значений, используемых в расчете; i - номер источника ценовой информации; - цена единицы
A5: 1 | B5: 2 | C5: 3 | D5: 4 | E5: 5 | F5: 6 | G5: 7 | H5: 8 | I5: 9 | J5: 10 | K5: 11 | L5: 12 | M5: 13 | N5: 14 | O5: 15
A6: 3 | B6: Завтрак и обед для обучающихся 1-4 классов | C6: д/дней | D6: 56780 | E6: 56780 | F6: =D6+E6 -> 113560 | G6: 108 | H6: 108 | I6: 108 | J6: =SUM(G6+H6+I6)/3 -> 108 | K6: =STDEV(G6:J6) -> 0 | L6: =K6/J6*100 -> 0 | M6: =D6*J6 -> 6132240 | N6: =E6*J6 -> 6132240 | O6: =M6+N6 -> 12264480
A7: 4 | B7: Завтрак и обед для обучающихся 5-11 классов | C7: д/дней | D7: 10880 | E7: 10880 | F7: =D7+E7 -> 21760 | G7: 108 | H7: 108 | I7: 108 | J7: =SUM(G7+H7+I7)/3 -> 108 | K7: =STDEV(G7:J7) -> 0 | L7: =K7/J7*100 -> 0 | M7: =D7*J7 -> 1175040 | N7: =E7*J7 -> 1175040 | O7: =M7+N7 -> 2350080
A8: 5 | B8: Обеспечение молоком учащихся 1-х – 4-х классов 0,2 л молока 3,2 % жир. на 1-го учащегося | C8: д/дней | D8: 56780 | E8: 56780 | F8: =D8+E8 -> 113560 | G8: 13.5 | H8: 13.5 | I8: 13.5 | J8: =SUM(G8+H8+I8)/3 -> 13.5 | K8: =STDEV(G8:J8) -> 0 | L8: =K8/J8*100 -> 0 | M8: =D8*J8 -> 766530 | N8: =E8*J8 -> 766530 | O8: =M8+N8 -> 1533060
A9: ИТОГО: | D9: =SUM(D6:D8) -> 124440 | E9: =SUM(E6:E8) -> 124440 | F9: =SUM(F6:F8) -> 248880 | M9: =SUM(M6:M8) -> 8073810 | N9: =SUM(N6:N8) -> 8073810 | O9: =M9+N9 -> 16147620

Sheet ВСОШ8
B1: Муниципальное общеобразовательное бюджетное учреждение " Средняя общеобразовательная школа №8 города Волхова" | N1: Приложение
A2: Обоснование начальной (максимальной) цены контракта (Н(М)ЦК) на услугу по организации питания в общеобразовательной организации на 2022-2023 год
A3: № п/п | B3: Наименование | C3: Ед. изм. | D3: Кол-во на 2022 год | E3: Кол-во на 2023 год | F3: Кол-во всего | G3: Коммерческие предложения (руб.) | J3: Однородность совокупности значений выявленных цен, используемых в расчете Н(М)ЦК | M3: Н(М)ЦК, определяемая методом сопоставимых рыночных цен (анализа рынка) на 2022 год | N3: Н(М)ЦК, определяемая методом сопоставимых рыночных цен (анализа рынка) на 2023 год | O3: Н(М)ЦК, определяемая методом сопоставимых рыночных цен (анализа рынка)
G4: Коммерческое предложение № 1 вх. № 1084 от 23.08.2021 | H4: Коммерческое предложение № 2 вх. № 1083 от 23.08.2021 | I4: Коммерческое предложение № 3 вх. № 1082 от 23.08.2021 | J4: Средняя арифметическая цена за единицу <ц> | K4: Среднее квадратичное отклонение | L4: коэффициент вариации цен V (%) (не должен превышать 33%) | M4: Расчет Н(М)ЦК по формуле v - количество (объем) закупаемого товара (работы, услуги); n - количество значений, используемых в расчете; i - номер источника ценовой информации; - цена единицы | N4: Расчет Н(М)ЦК по формуле v - количество (объем) закупаемого товара (работы, услуги); n - количество значений, используемых в расчете; i - номер источника ценовой информации; - цена единицы | O4: Расчет Н(М)ЦК по формуле v - количество (объем) закупаемого товара (работы, услуги); n - количество значений, используемых в расчете; i - номер источника ценовой информации; - цена единицы
A5: 1 | B5: 2 | C5: 3 | D5: 4 | E5: 5 | F5: 6 | G5: 7 | H5: 8 | I5: 9 | J5: 10 | K5: 11 | L5: 12 | M5: 13 | N5: 14 | O5: 15
A6: 3 | B6: Завтрак и обед для обучающихся 1-4 классов | C6: д/дней | D6: 65122 | E6: 65122 | F6: =D6+E6 -> 130244 | G6: 108 | H6: 108 | I6: 108 | J6: =SUM(G6+H6+I6)/3 -> 108 | K6: =STDEV(G6:J6) -> 0 | L6: =K6/J6*100 -> 0 | M6: =D6*J6 -> 7033176 | N6: =E6*J6 -> 7033176 | O6: =M6+N6 -> 14066352
A7: 4 | B7: Завтрак и обед для обучающихся 5-11 классов | C7: д/дней | D7: 11099 | E7: 11099 | F7: =D7+E7 -> 22198 | G7: 108 | H7: 108 | I7: 108 | J7: =SUM(G7+H7+I7)/3 -> 108 | K7: =STDEV(G7:J7) -> 0 | L7: =K7/J7*100 -> 0 | M7: =D7*J7 -> 1198692 | N7: =E7*J7 -> 1198692 | O7: =M7+N7 -> 2397384
A8: 5 | B8: Обеспечение молоком учащихся 1-х – 4-х классов 0,2 л молока 3,2 % жир. на 1-го учащегося | C8: д/дней | D8: 65122 | E8: 65122 | F8: =D8+E8 -> 130244 | G8: 13.5 | H8: 13.5 | I8: 13.5 | J8: =SUM(G8+H8+I8)/3 -> 13.5 | K8: =STDEV(G8:J8) -> 0 | L8: =K8/J8*100 -> 0 | M8: =D8*J8 -> 879147 | N8: =E8*J8 -> 879147 | O8: =M8+N8 -> 1758294
A9: ИТОГО: | D9: =SUM(D6:D8) -> 141343 | E9: =SUM(E6:E8) -> 141343 | F9: =SUM(F6:F8) -> 282686 | M9: =SUM(M6:M8) -> 9111015 | N9: =SUM(N6:N8) -> 9111015 | O9: =M9+N9 -> 18222030

Sheet ВГГ
B1: Муниципальное общеобразовательное бюджетное учреждение " Волховской городской гимназии №3 имени героя Советского Союза Александра Лукьянова" | N1: Приложение
A2: Обоснование начальной (максимальной) цены контракта (Н(М)ЦК) на услугу по организации питания в общеобразовательной организации на 2022-2023 год
A3: № п/п | B3: Наименование | C3: Ед. изм. | D3: Кол-во на 2022 год | E3: Кол-во на 2023 год | F3: Кол-во всего | G3: Коммерческие предложения (руб.) | J3: Однородность совокупности значений выявленных цен, используемых в расчете Н(М)ЦК | M3: Н(М)ЦК, определяемая методом сопоставимых рыночных цен (анализа рынка) на 2022 год | N3: Н(М)ЦК, определяемая методом сопоставимых рыночных цен (анализа рынка) на 2023 год | O3: Н(М)ЦК, определяемая методом сопоставимых рыночных цен (анализа рынка)
G4: Коммерческое предложение № 1 вх. № 1084 от 23.08.2021 | H4: Коммерческое предложение № 2 вх. № 1083 от 23.08.2021 | I4: Коммерческое предложение № 3 вх. № 1082 от 23.08.2021 | J4: Средняя арифметическая цена за единицу <ц> | K4: Среднее квадратичное отклонение | L4: коэффициент вариации цен V (%) (не должен превышать 33%) | M4: Расчет Н(М)ЦК по формуле v - количество (объем) закупаемого товара (работы, услуги); n - количество значений, используемых в расчете; i - номер источника ценовой информации; - цена единицы | N4: Расчет Н(М)ЦК по формуле v - количество (объем) закупаемого товара (работы, услуги); n - количество значений, используемых в расчете; i - номер источника ценовой информации; - цена единицы | O4: Расчет Н(М)ЦК по формуле v - количество (объем) закупаемого товара (работы, услуги); n - количество значений, используемых в расчете; i - номер источника ценовой информации; - цена единицы
A5: 1 | B5: 2 | C5: 3 | D5: 4 | E5: 5 | F5: 6 | G5: 7 | H5: 8 | I5: 9 | J5: 10 | K5: 11 | L5: 12 | M5: 13 | N5: 14 | O5: 15
A6: 3 | B6: Завтрак и обед для обучающихся 1-4 классов | C6: д/дней | D6: 30272 | E6: 30272 | F6: =D6+E6 -> 60544 | G6: 108 | H6: 108 | I6: 108 | J6: =SUM(G6+H6+I6)/3 -> 108 | K6: =STDEV(G6:J6) -> 0 | L6: =K6/J6*100 -> 0 | M6: =D6*J6 -> 3269376 | N6: =E6*J6 -> 3269376 | O6: =M6+N6 -> 6538752
A7: 4 | B7: Завтрак и обед для обучающихся 5-11 классов | C7: д/дней | D7: 7310 | E7: 7310 | F7: =D7+E7 -> 14620 | G7: 108 | H7: 108 | I7: 108 | J7: =SUM(G7+H7+I7)/3 -> 108 | K7: =STDEV(G7:J7) -> 0 | L7: =K7/J7*100 -> 0 | M7: =D7*J7 -> 789480 | N7: =E7*J7 -> 789480 | O7: =M7+N7 -> 1578960
A8: 5 | B8: Обеспечение молоком учащихся 1-х – 4-х классов 0,2 л молока 3,2 % жир. на 1-го учащегося | C8: д/дней | D8: 30272 | E8: 30272 | F8: =D8+E8 -> 60544 | G8: 13.5 | H8: 13.5 | I8: 13.5 | J8: =SUM(G8+H8+I8)/3 -> 13.5 | K8: =STDEV(G8:J8) -> 0 | L8: =K8/J8*100 -> 0 | M8: =D8*J8 -> 408672 | N8: =E8*J8 -> 408672 | O8: =M8+N8 -> 817344
A9: ИТОГО: | D9: =SUM(D6:D8) -> 67854 | E9: =SUM(E6:E8) -> 67854 | F9: =SUM(F6:F8) -> 135708 | M9: =SUM(M6:M8) -> 4467528 | N9: =SUM(N6:N8) -> 4467528 | O9: =M9+N9 -> 8935056

Sheet НСОШ1
B1: Муниципальное общеобразовательное бюджетное учреждение "Новоладожская средняя общеобразовательная школа имени вице-адмирала В.С. Черокова» | N1: Приложение
A2: Обоснование начальной (максимальной) цены контракта (Н(М)ЦК) на услугу по организации питания в общеобразовательной организации на 2022-2023 год
A3: № п/п | B3: Наименование | C3: Ед. изм. | D3: Кол-во на 2022 год | E3: Кол-во на 2023 год | F3: Кол-во всего | G3: Коммерческие предложения (руб.) | J3: Однородность совокупности значений выявленных цен, используемых в расчете Н(М)ЦК | M3: Н(М)ЦК, определяемая методом сопоставимых рыночных цен (анализа рынка) на 2022 год | N3: Н(М)ЦК, определяемая методом сопоставимых рыночных цен (анализа рынка) на 2023 год | O3: Н(М)ЦК, определяемая методом сопоставимых рыночных цен (анализа рынка)
G4: Коммерческое предложение № 1 вх. № 1084 от 23.08.2021 | H4: Коммерческое предложение № 2 вх. № 1083 от 23.08.2021 | I4: Коммерческое предложение № 3 вх. № 1082 от 23.08.2021 | J4: Средняя арифметическая цена за единицу <ц> | K4: Среднее квадратичное отклонение | L4: коэффициент вариации цен V (%) (не должен превышать 33%) | M4: Расчет Н(М)ЦК по формуле v - количество (объем) закупаемого товара (работы, услуги); n - количество значений, используемых в расчете; i - номер источника ценовой информации; - цена единицы | N4: Расчет Н(М)ЦК по формуле v - количество (объем) закупаемого товара (работы, услуги); n - количество значений, используемых в расчете; i - номер источника ценовой информации; - цена единицы | O4: Расчет Н(М)ЦК по формуле v - количество (объем) закупаемого товара (работы, услуги); n - количество значений, используемых в расчете; i - номер источника ценовой информации; - цена единицы
A5: 1 | B5: 2 | C5: 3 | D5: 4 | E5: 5 | F5: 6 | G5: 7 | H5: 8 | I5: 9 | J5: 10 | K5: 11 | L5: 12 | M5: 13 | N5: 14 | O5: 15
A6: 3 | B6: Завтрак и обед для обучающихся 1-4 классов | C6: д/дней | D6: 41850 | E6: 41850 | F6: =D6+E6 -> 83700 | G6: 108 | H6: 108 | I6: 108 | J6: =SUM(G6+H6+I6)/3 -> 108 | K6: =STDEV(G6:J6) -> 0 | L6: =K6/J6*100 -> 0 | M6: =D6*J6 -> 4519800 | N6: =E6*J6 -> 4519800 | O6: =M6+N6 -> 9039600
A7: 4 | B7: Завтрак и обед для обучающихся 5-11 классов | C7: д/дней | D7: 24500 | E7: 24500 | F7: =D7+E7 -> 49000 | G7: 108 | H7: 108 | I7: 108 | J7: =SUM(G7+H7+I7)/3 -> 108 | K7: =STDEV(G7:J7) -> 0 | L7: =K7/J7*100 -> 0 | M7: =D7*J7 -> 2646000 | N7: =E7*J7 -> 2646000 | O7: =M7+N7 -> 5292000
A8: 5 | B8: Обеспечение молоком учащихся 1-х – 4-х классов 0,2 л молока 3,2 % жир. на 1-го учащегося | C8: д/дней | D8: 41850 | E8: 41850 | F8: =D8+E8 -> 83700 | G8: 13.5 | H8: 13.5 | I8: 13.5 | J8: =SUM(G8+H8+I8)/3 -> 13.5 | K8: =STDEV(G8:J8) -> 0 | L8: =K8/J8*100 -> 0 | M8: =D8*J8 -> 564975 | N8: =E8*J8 -> 564975 | O8: =M8+N8 -> 1129950
A9: ИТОГО: | D9: =SUM(D6:D8) -> 108200 | E9: =SUM(E6:E8) -> 108200 | F9: =SUM(F6:F8) -> 216400 | M9: =SUM(M6:M8) -> 7730775 | N9: =SUM(N6:N8) -> 7730775 | O9: =M9+N9 -> 15461550

Sheet ССОШ1
B1: Муниципальное общеобразовательное бюджетное учреждение "Сясьстройская средняя общеобразовательная школа № 1" | N1: Приложение
A2: Обоснование начальной (максимальной) цены контракта (Н(М)ЦК) на услугу по организации питания в общеобразовательной организации на 2022-2023 год
A3: № п/п | B3: Наименование | C3: Ед. изм. | D3: Кол-во на 2022 год | E3: Кол-во на 2023 год | F3: Кол-во всего | G3: Коммерческие предложения (руб.) | J3: Однородность совокупности значений выявленных цен, используемых в расчете Н(М)ЦК | M3: Н(М)ЦК, определяемая методом сопоставимых рыночных цен (анализа рынка) на 2022 год | N3: Н(М)ЦК, определяемая методом сопоставимых рыночных цен (анализа рынка) на 2023 год | O3: Н(М)ЦК, определяемая методом сопоставимых рыночных цен (анализа рынка)
G4: Коммерческое предложение № 1 вх. № 1084 от 23.08.2021 | H4: Коммерческое предложение № 2 вх. № 1083 от 23.08.2021 | I4: Коммерческое предложение № 3 вх. № 1082 от 23.08.2021 | J4: Средняя арифметическая цена за единицу <ц> | K4: Среднее квадратичное отклонение | L4: коэффициент вариации цен V (%) (не должен превышать 33%) | M4: Расчет Н(М)ЦК по формуле v - количество (объем) закупаемого товара (работы, услуги); n - количество значений, используемых в расчете; i - номер источника ценовой информации; - цена единицы | N4: Расчет Н(М)ЦК по формуле v - количество (объем) закупаемого товара (работы, услуги); n - количество значений, используемых в расчете; i - номер источника ценовой информации; - цена единицы | O4: Расчет Н(М)ЦК по формуле v - количество (объем) закупаемого товара (работы, услуги); n - количество значений, используемых в расчете; i - номер источника ценовой информации; - цена единицы
A5: 1 | B5: 2 | C5: 3 | D5: 4 | E5: 5 | F5: 6 | G5: 7 | H5: 8 | I5: 9 | J5: 10 | K5: 11 | L5: 12 | M5: 13 | N5: 14 | O5: 15
A6: 3 | B6: Завтрак и обед для обучающихся 1-4 классов | C6: д/дней | D6: 30983 | E6: 30983 | F6: =D6+E6 -> 61966 | G6: 108 | H6: 108 | I6: 108 | J6: =SUM(G6+H6+I6)/3 -> 108 | K6: =STDEV(G6:J6) -> 0 | L6: =K6/J6*100 -> 0 | M6: =D6*J6 -> 3346164 | N6: =E6*J6 -> 3346164 | O6: =M6+N6 -> 6692328
A7: 4 | B7: Завтрак и обед для обучающихся 5-11 классов | C7: д/дней | D7: 11890 | E7: 11890 | F7: =D7+E7 -> 23780 | G7: 108 | H7: 108 | I7: 108 | J7: =SUM(G7+H7+I7)/3 -> 108 | K7: =STDEV(G7:J7) -> 0 | L7: =K7/J7*100 -> 0 | M7: =D7*J7 -> 1284120 | N7: =E7*J7 -> 1284120 | O7: =M7+N7 -> 2568240
A8: 5 | B8: Обеспечение молоком учащихся 1-х – 4-х классов 0,2 л молока 3,2 % жир. на 1-го учащегося | C8: д/дней | D8: 30983 | E8: 30983 | F8: =D8+E8 -> 61966 | G8: 13.5 | H8: 13.5 | I8: 13.5 | J8: =SUM(G8+H8+I8)/3 -> 13.5 | K8: =STDEV(G8:J8) -> 0 | L8: =K8/J8*100 -> 0 | M8: =D8*J8 -> 418270.5 | N8: =E8*J8 -> 418270.5 | O8: =M8+N8 -> 836541
A9: ИТОГО: | D9: =SUM(D6:D8) -> 73856 | E9: =SUM(E6:E8) -> 73856 | F9: =SUM(F6:F8) -> 147712 | M9: =SUM(M6:M8) -> 5048554.5 | N9: =SUM(N6:N8) -> 5048554.5 | O9: =M9+N9 -> 10097109
M17: =M9+'ССОШ 2'!M9+НСОШ1!M9+ВГГ!M9+ВСОШ8!M9+ВСОШ7!M9+ВСОШ6!M9+ВСОШ5!M9+ВСОШ1!M9+УСОШ!M9+ССОШ!M9+ПООШ!M9+ПСОШ!M9+КСОШ!M9+ИООШ!M9+ГООШ!M9+БООШ!M9+АСОШ!M9 -> 72814220 | N17: =N9+'ССОШ 2'!N9+НСОШ1!N9+ВГГ!N9+ВСОШ8!N9+ВСОШ7!N9+ВСОШ6!N9+ВСОШ5!N9+ВСОШ1!N9+УСОШ!N9+ССОШ!N9+ПООШ!N9+ПСОШ!N9+КСОШ!N9+ИООШ!N9+ГООШ!N9+БООШ!N9+АСОШ!N9 -> 72814220 | O17: =O9+'ССОШ 2'!O9+НСОШ1!O9+ВГГ!O9+ВСОШ8!O9+ВСОШ7!O9+ВСОШ6!O9+ВСОШ5!O9+ВСОШ1!O9+УСОШ!O9+ССОШ!O9+ПООШ!O9+ПСОШ!O9+КСОШ!O9+ИООШ!O9+ГООШ!O9+БООШ!O9+АСОШ!O9 -> 1.4562844e+08

Sheet Лист1

Sheet ССОШ 2
B1: Муниципальное общеобразовательное бюджетное учреждение "Сясьстройская средняя общеобразовательная школа № 2" | N1: Приложение
A2: Обоснование начальной (максимальной) цены контракта (Н(М)ЦК) на услугу по организации питания в общеобразовательной организации на 2022-2023 год
A3: № п/п | B3: Наименование | C3: Ед. изм. | D3: Кол-во на 2022 год | E3: Кол-во на 2023 год | F3: Кол-во всего | G3: Коммерческие предложения (руб.) | J3: Однородность совокупности значений выявленных цен, используемых в расчете Н(М)ЦК | M3: Н(М)ЦК, определяемая методом сопоставимых рыночных цен (анализа рынка) на 2022 год | N3: Н(М)ЦК, определяемая методом сопоставимых рыночных цен (анализа рынка) на 2023 год | O3: Н(М)ЦК, определяемая методом сопоставимых рыночных цен (анализа рынка)
G4: Коммерческое предложение № 1 вх. № 1084 от 23.08.2021 | H4: Коммерческое предложение № 2 вх. № 1083 от 23.08.2021 | I4: Коммерческое предложение № 3 вх. № 1082 от 23.08.2021 | J4: Средняя арифметическая цена за единицу <ц> | K4: Среднее квадратичное отклонение | L4: коэффициент вариации цен V (%) (не должен превышать 33%) | M4: Расчет Н(М)ЦК по формуле v - количество (объем) закупаемого товара (работы, услуги); n - количество значений, используемых в расчете; i - номер источника ценовой информации; - цена единицы | N4: Расчет Н(М)ЦК по формуле v - количество (объем) закупаемого товара (работы, услуги); n - количество значений, используемых в расчете; i - номер источника ценовой информации; - цена единицы | O4: Расчет Н(М)ЦК по формуле v - количество (объем) закупаемого товара (работы, услуги); n - количество значений, используемых в расчете; i - номер источника ценовой информации; - цена единицы
A5: 1 | B5: 2 | C5: 3 | D5: 4 | E5: 5 | F5: 6 | G5: 7 | H5: 8 | I5: 9 | J5: 10 | K5: 11 | L5: 12 | M5: 13 | N5: 14 | O5: 15
A6: 3 | B6: Завтрак и обед для обучающихся 1-4 классов | C6: д/дней | D6: 32948 | E6: 32948 | F6: =D6+E6 -> 65896 | G6: 108 | H6: 108 | I6: 108 | J6: =SUM(G6+H6+I6)/3 -> 108 | K6: =STDEV(G6:J6) -> 0 | L6: =K6/J6*100 -> 0 | M6: =D6*J6 -> 3558384 | N6: =E6*J6 -> 3558384 | O6: =M6+N6 -> 7116768
A7: 4 | B7: Завтрак и обед для обучающихся 5-11 классов | C7: д/дней | D7: 8623 | E7: 8623 | F7: =D7+E7 -> 17246 | G7: 108 | H7: 108 | I7: 108 | J7: =SUM(G7+H7+I7)/3 -> 108 | K7: =STDEV(G7:J7) -> 0 | L7: =K7/J7*100 -> 0 | M7: =D7*J7 -> 931284 | N7: =E7*J7 -> 931284 | O7: =M7+N7 -> 1862568
A8: 5 | B8: Обеспечение молоком учащихся 1-х – 4-х классов 0,2 л молока 3,2 % жир. на 1-го учащегося | C8: д/дней | D8: 32948 | E8: 32948 | F8: =D8+E8 -> 65896 | G8: 13.5 | H8: 13.5 | I8: 13.5 | J8: =SUM(G8+H8+I8)/3 -> 13.5 | K8: =STDEV(G8:J8) -> 0 | L8: =K8/J8*100 -> 0 | M8: =D8*J8 -> 444798 | N8: =E8*J8 -> 444798 | O8: =M8+N8 -> 889596
A9: ИТОГО: | D9: =SUM(D6:D8) -> 74519 | E9: =SUM(E6:E8) -> 74519 | F9: =SUM(F6:F8) -> 149038 | M9: =SUM(M6:M8) -> 4934466 | N9: =SUM(N6:N8) -> 4934466 | O9: =M9+N9 -> 9868932

Sheet СООШ
B1: Муниципальное общеобразовательное бюджетное учреждение "Селивановская основная общеобразовательная школа № 2" | N1: Приложение
A2: Обоснование начальной (максимальной) цены контракта (Н(М)ЦК) на услугу по организации питания в общеобразовательной организации на 2022-2023 год
A3: № п/п | B3: Наименование | C3: Ед. изм. | D3: Кол-во на 2022 год | E3: Кол-во на 2023 год | F3: Кол-во всего | G3: Коммерческие предложения (руб.) | J3: Однородность совокупности значений выявленных цен, используемых в расчете Н(М)ЦК | M3: Н(М)ЦК, определяемая методом сопоставимых рыночных цен (анализа рынка) на 2022 год | N3: Н(М)ЦК, определяемая методом сопоставимых рыночных цен (анализа рынка) на 2023 год | O3: Н(М)ЦК, определяемая методом сопоставимых рыночных цен (анализа рынка)
G4: Коммерческое предложение № 1 вх. № 1084 от 23.08.2021 | H4: Коммерческое предложение № 2 вх. № 1083 от 23.08.2021 | I4: Коммерческое предложение № 3 вх. № 1082 от 23.08.2021 | J4: Средняя арифметическая цена за единицу <ц> | K4: Среднее квадратичное отклонение | L4: коэффициент вариации цен V (%) (не должен превышать 33%) | M4: Расчет Н(М)ЦК по формуле v - количество (объем) закупаемого товара (работы, услуги); n - количество значений, используемых в расчете; i - номер источника ценовой информации; - цена единицы | N4: Расчет Н(М)ЦК по формуле v - количество (объем) закупаемого товара (работы, услуги); n - количество значений, используемых в расчете; i - номер источника ценовой информации; - цена единицы | O4: Расчет Н(М)ЦК по формуле v - количество (объем) закупаемого товара (работы, услуги); n - количество значений, используемых в расчете; i - номер источника ценовой информации; - цена единицы
A5: 1 | B5: 2 | C5: 3 | D5: 4 | E5: 5 | F5: 6 | G5: 7 | H5: 8 | I5: 9 | J5: 10 | K5: 11 | L5: 12 | M5: 13 | N5: 14 | O5: 15
A6: 3 | B6: Завтрак и обед для обучающихся 1-4 классов | C6: д/дней | D6: 3548 | E6: 3548 | F6: =D6+E6 -> 7096 | G6: 108 | H6: 108 | I6: 108 | J6: =SUM(G6+H6+I6)/3 -> 108 | K6: =STDEV(G6:J6) -> 0 | L6: =K6/J6*100 -> 0 | M6: =D6*J6 -> 383184 | N6: =E6*J6 -> 383184 | O6: =M6+N6 -> 766368
A7: 4 | B7: Завтрак и обед для обучающихся 5-11 классов | C7: д/дней | D7: 4199 | E7: 4199 | F7: =D7+E7 -> 8398 | G7: 108 | H7: 108 | I7: 108 | J7: =SUM(G7+H7+I7)/3 -> 108 | K7: =STDEV(G7:J7) -> 0 | L7: =K7/J7*100 -> 0 | M7: =D7*J7 -> 453492 | N7: =E7*J7 -> 453492 | O7: =M7+N7 -> 906984
A8: 5 | B8: Обеспечение молоком учащихся 1-х – 4-х классов 0,2 л молока 3,2 % жир. на 1-го учащегося | C8: д/дней | D8: 3548 | E8: 3548 | F8: =D8+E8 -> 7096 | G8: 13.5 | H8: 13.5 | I8: 13.5 | J8: =SUM(G8+H8+I8)/3 -> 13.5 | K8: =STDEV(G8:J8) -> 0 | L8: =K8/J8*100 -> 0 | M8: =D8*J8 -> 47898 | N8: =E8*J8 -> 47898 | O8: =M8+N8 -> 95796
A9: ИТОГО: | D9: =SUM(D6:D8) -> 11295 | E9: =SUM(E6:E8) -> 11295 | F9: =SUM(F6:F8) -> 22590 | M9: =SUM(M6:M8) -> 884574 | N9: =SUM(N6:N8) -> 884574 | O9: =M9+N9 -> 1769148
M17: =M9+'ССОШ 2'!M9+НСОШ1!M9+ВГГ!M9+ВСОШ8!M9+ВСОШ7!M9+ВСОШ6!M9+ВСОШ5!M9+ВСОШ1!M9+УСОШ!M9+ССОШ!M9+ПООШ!M9+ПСОШ!M9+КСОШ!M9+ИООШ!M9+ГООШ!M9+БООШ!M9+АСОШ!M9 -> 68650240 | N17: =N9+'ССОШ 2'!N9+НСОШ1!N9+ВГГ!N9+ВСОШ8!N9+ВСОШ7!N9+ВСОШ6!N9+ВСОШ5!N9+ВСОШ1!N9+УСОШ!N9+ССОШ!N9+ПООШ!N9+ПСОШ!N9+КСОШ!N9+ИООШ!N9+ГООШ!N9+БООШ!N9+АСОШ!N9 -> 68650240 | O17: =O9+'ССОШ 2'!O9+НСОШ1!O9+ВГГ!O9+ВСОШ8!O9+ВСОШ7!O9+ВСОШ6!O9+ВСОШ5!O9+ВСОШ1!O9+УСОШ!O9+ССОШ!O9+ПООШ!O9+ПСОШ!O9+КСОШ!O9+ИООШ!O9+ГООШ!O9+БООШ!O9+АСОШ!O9 -> 1.3730048e+08
