Workbook

Sheet Sheet
W1: УТВЕРЖДАЮ Директор МБОУ «Гавриловская ООШ» ____________ И.И.Тимошик
A14: ЧАСТЬ IV. ОБОСНОВАНИЕ НАЧАЛЬНОЙ (МАКСИМАЛЬНОЙ) ЦЕНЫ КОНТРАКТА
A15: Расчет начальной (максимальной) цены произведен в соответствии с положением статьи 22 ФЗ № 44-ФЗ посредством применения метода сопоставимых рыночных цен (анализа рынка) в соответствии с методическими рекомендациями формирования начальной (максимальной) цены Контракта, утвержденными приказом Минэкономразвития России от 2 октября 2013 г, № 567.
A16: Валюта, используемая для формирования цены контракта и расчетов с поставщиками (исполнителями, подрядчиками): Российский рубль.
A17: № п/п | C17: Наименование товара | D17: Код ОКПД2/ Код позиции КТРУ | E17: Кол-во | F17: Ед. изм. | I17: Коммерческое предложение №1 | P17: Коммерческое предложение №2 | S17: Коммерческое предложение №3 | W17: Ср. ар. цена за ед. изм., руб. | X17: Ср. кв. откл. | AA17: Коэфф. вариации | AE17: НДС | AH17: Н(М)ЦК, руб. | AK17: ИТОГО
A22: 1 | C22: Услуги по уборке (помещение) | D22: 81.21.10.000/ 81.21.10.000-00000007 | E22: ='Уборка 2026 '!E19 -> 98292.8 | F22: М2 | I22: 0.6 | P22: 0.58 | S22: 0.62 | W22: =ROUND(AVERAGE(I22,P22,S22), 2) -> 0.6 | X22: =STDEV(I22,P22,S22) -> 0.02 | AA22: =X22/W22*100 -> 3.3333333 | AE22: - | AH22: =ROUND(W22*(100 + IF(ISNUMBER(AE22), AE22, 0))/100, 2) -> 0.6 | AK22: =E22*AH22 -> 58975.68
A23: 2 | C23: Услуги по уборке (территория) | D23: 81.21.10.000/ 81.21.10.000-00000005 | E23: ='Уборка 2026 '!Q19 -> 934996 | F23: М2 | I23: 0.5 | P23: 0.52 | S23: 0.54 | W23: =ROUND(AVERAGE(I23,P23,S23), 2) -> 0.52 | X23: =STDEV(I23,P23,S23) -> 0.02 | AA23: =X23/W23*100 -> 3.8461538 | AE23: - | AH23: =ROUND(W23*(100 + IF(ISNUMBER(AE23), AE23, 0))/100, 2) -> 0.52 | AK23: =E23*AH23 -> 486197.92
B24: ВСЕГО | AK24: =SUM(AK22:AK23) -> 545173.6
C27: НМЦК вычисляется по формуле: где, v - количество (объем) закупаемого товара (работы, услуги); n - количество значений, используемых в расчете; i - номер источника ценовой информации; цi- цена единицы товара, работы, услуги, представленная в источнике с номером i, скорректированная с учетом коэффициентов (индексов), применяемых для пересчета цен товаров, работ, услуг с учетом различий в характеристиках товаров, коммерческих и (или) финансовых условий поставок товаров, выполнения работ, оказания услуг. В результате проведенного анализа средней и минимальной цены из предложенных коммерческих предложений, за Н(М)ЦК принята минимальная цена из предложенных коммерческих предложений. Расчет произведен с учетом статьи 34 Бюджетного кодекса Российской Федерации. ВЫВОД: Проведенные исследования позволяют определить начальную (максимальную) цену контракта в размере 545173.60 руб. (Пятьсот сорок пять тысяч сто семьдесят три рубля шестьдесят копеек), в т.ч. НДС 22% 98309.99 руб.

Sheet Уборка 2026 
B1: Гавриловская ООШ | E1: Уборка 2026
C5: Здание | E5: 81.21.10.000-00000007 | I5: Здание | K5: 81.21.10.000-00000006 | M5: генер | O5: Территория | Q5: 81.21.10.000-00000005
C6: Количество дней | D6: Площадь | E6: м2 | F6: цена за ед.изм.услуги, руб. | G6: Общая сумма | I6: Количество дней | K6: м2 | L6: цена за ед.изм.услуги, руб. | M6: Общая сумма | O6: Количество дней | P6: Площадь | Q6: м2 | R6: цена за ед.изм.услуги, руб. | S6: Общая сумма за питание | V6: Итого питание | X6: Ориентировочно цена в месяц
E7: =C7*D7 -> 0 | G7: =F7*E7 -> 0 | K7: =I7*J7 -> 0 | M7: =L7*K7 -> 0 | Q7: =P7*O7 -> 0 | S7: =R7*Q7 -> 0 | V7: Месяца | W7: Общая сумма
B8: январь | E8: =C8*D8 -> 0 | G8: =F8*E8 -> 0 | K8: =I8*J8 -> 0 | M8: =L8*K8 -> 0 | Q8: =P8*O8 -> 0 | S8: =R8*Q8 -> 0 | V8: =B8 -> январь | W8: =G7+M7+S7 -> 0 | X8: 180000
B9: февраль | E9: =C9*D9 -> 0 | G9: =F9*E9 -> 0 | K9: =I9*J9 -> 0 | M9: =L9*K9 -> 0 | Q9: =P9*O9 -> 0 | S9: =R9*Q9 -> 0 | V9: =B9 -> февраль | W9: =G8+M8+S8 -> 0 | X9: 180000
B10: март | E10: =C10*D10 -> 0 | G10: =F10*E10 -> 0 | K10: =I10*J10 -> 0 | M10: =L10*K10 -> 0 | Q10: =P10*O10 -> 0 | S10: =R10*Q10 -> 0 | V10: =B10 -> март | W10: =G9+M9+S9 -> 0 | X10: 180000
B11: апрель | E11: =C11*D11 -> 0 | G11: =F11*E11 -> 0 | K11: =I11*J11 -> 0 | M11: =ROUNDDOWN((L11*K11),2) -> 0 | Q11: =P11*O11 -> 0 | S11: =R11*Q11 -> 0 | V11: =B11 -> апрель | W11: =G10+M10+S10 -> 0 | X11: 180000
B12: май | E12: =C12*D12 -> 0 | G12: =F12*E12 -> 0 | K12: =I12*J12 -> 0 | M12: =ROUNDDOWN((L12*K12),2) -> 0 | Q12: =P12*O12 -> 0 | S12: =R12*Q12 -> 0 | V12: =B12 -> май | W12: =G11+M11+S11 -> 0 | X12: 180000
B13: июнь | C13: 0 | D13: 1068.4 | E13: =C13*D13 -> 0 | F13: =$F$24 -> 0.6 | G13: =F13*E13 -> 0 | K13: =I13*J13 -> 0 | M13: =ROUNDDOWN((L13*K13),2) -> 0 | O13: 0 | P13: 10163 | Q13: =P13*O13 -> 0 | R13: =$R$24 -> 0.52 | S13: =R13*Q13 -> 0 | V13: =B13 -> июнь | W13: =G13+M13+S13 -> 0 | X13: 180000 | Y13: =X13-W13 -> 180000
B14: июль | C14: 31 | D14: 1068.4 | E14: =C14*D14 -> 33120.4 | F14: =$F$24 -> 0.6 | G14: =F14*E14 -> 19872.24 | K14: =I14*J14 -> 0 | M14: =L14*K14 -> 0 | O14: 31 | P14: 10163 | Q14: =P14*O14 -> 315053 | R14: =$R$24 -> 0.52 | S14: =R14*Q14 -> 163827.56 | V14: =B14 -> июль | W14: =G14+M14+S14 -> 183699.8 | X14: 180000 | Y14: =X14-W14 -> -3699.8
B15: август | C15: 31 | D15: 1068.4 | E15: =C15*D15 -> 33120.4 | F15: =$F$24 -> 0.6 | G15: =F15*E15 -> 19872.24 | K15: =I15*J15 -> 0 | M15: =L15*K15 -> 0 | O15: 31 | P15: 10163 | Q15: =P15*O15 -> 315053 | R15: =$R$24 -> 0.52 | S15: =R15*Q15 -> 163827.56 | V15: =B15 -> август | W15: =G15+M15+S15 -> 183699.8 | X15: 180000 | Y15: =X15-W15 -> -3699.8
B16: сентябрь | C16: 30 | D16: 1068.4 | E16: =C16*D16 -> 32052 | F16: =$F$24 -> 0.6 | G16: =F16*E16 -> 19231.2 | K16: =I16*J16 -> 0 | M16: =L16*K16 -> 0 | O16: 30 | P16: 10163 | Q16: =P16*O16 -> 304890 | R16: =$R$24 -> 0.52 | S16: =R16*Q16 -> 158542.8 | V16: =B16 -> сентябрь | W16: =G16+M16+S16 -> 177774 | X16: 180000 | Y16: =X16-W16 -> 2226
B17: октябрь | C17: 0 | D17: 1069.4 | E17: =C17*D17 -> 0 | F17: =$F$24 -> 0.6 | G17: =F17*E17 -> 0 | K17: =I17*J17 -> 0 | M17: =L17*K17 -> 0 | O17: 0 | P17: 10164 | Q17: =P17*O17 -> 0 | R17: =$R$24 -> 0.52 | S17: =R17*Q17 -> 0 | V17: =B17 -> октябрь | W17: =G17+M17+S17 -> 0 | X17: 180000
B18: декабрь | E18: =C18*D18 -> 0 | G18: =F18*E18 -> 0 | K18: =I18*J18 -> 0 | M18: =L18*K18 -> 0 | Q18: =P18*O18 -> 0 | S18: =R18*Q18 -> 0 | V18: =B18 -> декабрь | W18: =G17+M17+S17 -> 0
B19: Итого | C19: =SUM(C7:C18) -> 92 | D19: =SUM(D7:D18) -> 5343 | E19: =SUM(E7:E18) -> 98292.8 | G19: =SUM(G7:G18) -> 58975.68 | I19: =SUM(I7:I18) -> 0 | J19: =SUM(J7:J18) -> 0 | K19: =SUM(K7:K18) -> 0 | M19: =SUM(M7:M18) -> 0 | O19: =SUM(O7:O18) -> 92 | P19: =SUM(P7:P18) -> 50816 | Q19: =SUM(Q7:Q18) -> 934996 | S19: =SUM(S7:S18) -> 486197.92 | W19: =SUM(W8:W18) -> 545173.6
F24: =Sheet!W22 -> 0.6 | R24: =Sheet!W23 -> 0.52

Sheet Уборка осень 26
B1: Гавриловская ООШ | E1: Уборка 2026
C5: Здание | E5: 81.21.10.000-00000007 | J5: Территория | L5: 81.21.10.000-00000005
C6: Количество дней | D6: Площадь | E6: м2 | F6: цена за ед.изм.услуги, руб. | G6: Общая сумма | J6: Количество дней | K6: Площадь | L6: м2 | M6: цена за ед.изм.услуги, руб. | N6: Общая сумма за питание | Q6: Итого питание | S6: Ориентировочно цена в месяц
E7: =C7*D7 -> 0 | G7: =F7*E7 -> 0 | L7: =K7*J7 -> 0 | N7: =M7*L7 -> 0 | Q7: Месяца | R7: Общая сумма
B8: январь | E8: =C8*D8 -> 0 | G8: =F8*E8 -> 0 | L8: =K8*J8 -> 0 | N8: =M8*L8 -> 0 | Q8: =B8 -> январь | R8: =G8+N8 -> 0 | S8: 180000
B9: февраль | E9: =C9*D9 -> 0 | G9: =F9*E9 -> 0 | L9: =K9*J9 -> 0 | N9: =M9*L9 -> 0 | Q9: =B9 -> февраль | R9: =G9+N9 -> 0 | S9: 180000
B10: март | E10: =C10*D10 -> 0 | G10: =F10*E10 -> 0 | L10: =K10*J10 -> 0 | N10: =M10*L10 -> 0 | Q10: =B10 -> март | R10: =G10+N10 -> 0 | S10: 180000
B11: апрель | E11: =C11*D11 -> 0 | G11: =F11*E11 -> 0 | L11: =K11*J11 -> 0 | N11: =M11*L11 -> 0 | Q11: =B11 -> апрель | R11: =G11+N11 -> 0 | S11: 180000
B12: май | E12: =C12*D12 -> 0 | G12: =F12*E12 -> 0 | L12: =K12*J12 -> 0 | N12: =M12*L12 -> 0 | Q12: =B12 -> май | R12: =G12+N12 -> 0 | S12: 180000
B13: июнь | D13: 1068.4 | E13: =C13*D13 -> 0 | F13: =$F$25 -> 0.6 | G13: =F13*E13 -> 0 | K13: 10163 | L13: =K13*J13 -> 0 | M13: =$M$25 -> 0.52 | N13: =M13*L13 -> 0 | Q13: =B13 -> июнь | R13: =G13+N13 -> 0 | S13: 180000 | T13: =S13-R13 -> 180000
B14: июль | D14: 1068.4 | E14: =C14*D14 -> 0 | F14: =$F$25 -> 0.6 | G14: =F14*E14 -> 0 | K14: 10163 | L14: =K14*J14 -> 0 | M14: =$M$25 -> 0.52 | N14: =M14*L14 -> 0 | Q14: =B14 -> июль | R14: =G14+N14 -> 0 | S14: 180000 | T14: =S14-R14 -> 180000
B15: август | D15: 1068.4 | E15: =C15*D15 -> 0 | F15: =$F$25 -> 0.6 | G15: =F15*E15 -> 0 | K15: 10163 | L15: =K15*J15 -> 0 | M15: =$M$25 -> 0.52 | N15: =M15*L15 -> 0 | Q15: =B15 -> август | R15: =G15+N15 -> 0 | S15: 180000 | T15: =S15-R15 -> 180000
B16: сентябрь | D16: 1068.4 | E16: =C16*D16 -> 0 | F16: =$F$25 -> 0.6 | G16: =F16*E16 -> 0 | K16: 10163 | L16: =K16*J16 -> 0 | M16: =$M$25 -> 0.52 | N16: =M16*L16 -> 0 | Q16: =B16 -> сентябрь | R16: =G16+N16 -> 0 | S16: 180000 | T16: =S16-R16 -> 180000
B17: октябрь | C17: 21 | D17: 1068.4 | E17: =C17*D17 -> 22436.4 | F17: 1.52 | G17: =F17*E17 -> 34103.328 | J17: 21 | K17: 10163 | L17: =K17*J17 -> 213423 | M17: 0.64 | N17: =M17*L17 -> 136590.72 | Q17: =B17 -> октябрь | R17: =G17+N17 -> 170694.05 | S17: 180000
B18: ноябрь | C18: 21 | D18: 1068.4 | E18: =C18*D18 -> 22436.4 | F18: 1.52 | G18: =F18*E18 -> 34103.328 | J18: 21 | K18: 10163 | L18: =K18*J18 -> 213423 | M18: 0.64 | N18: =M18*L18 -> 136590.72 | Q18: =B18 -> ноябрь | R18: =G18+N18 -> 170694.05
B19: декабрь | C19: 21 | D19: 1068.4 | E19: =C19*D19 -> 22436.4 | F19: 1.52 | G19: =F19*E19 -> 34103.328 | J19: 21 | K19: 10163 | L19: =K19*J19 -> 213423 | M19: 0.64 | N19: =M19*L19 -> 136590.72 | Q19: =B19 -> декабрь | R19: =G19+N19 -> 170694.05
B20: Итого | C20: =SUM(C7:C19) -> 63 | D20: =SUM(D7:D19) -> 7478.8 | E20: =SUM(E7:E19) -> 67309.2 | G20: =SUM(G7:G19) -> 102309.98 | J20: =SUM(J7:J19) -> 63 | K20: =SUM(K7:K19) -> 71141 | L20: =SUM(L7:L19) -> 640269 | N20: =SUM(N7:N19) -> 409772.16 | R20: =SUM(R8:R19) -> 512082.14
F25: =Sheet!W22 -> 0.6 | M25: =Sheet!W23 -> 0.52
