Workbook

Sheet Справочник лекарств
A2: Начальная (максимальная) цена контракта определена в соответствии с Порядком, утвержденном Приказом Министерства здравоохранения Российской Федерации от 19 декабря 2019 года № 1064н «Об утверждении Порядка определения начальной (максимальной) цены контракта, цены контракта, заключаемого с единственным поставщиком (подрядчиком, исполнителем), начальной цены единицы товара, работы, услуги при осуществлении закупок лекарственных препаратов для медицинского применения».
A3: г)Для целей применения настоящего Порядка в качестве "единицы лекарственного препарата" используются единицы измерения, указанные в едином справочнике-каталоге лекарственных препаратов. В случае отсутствия в едином справочнике-каталоге лекарственных препаратов информации о лекарственном препарате в качестве "единицы лекарственного препарата" используется единица измерения "штука", соответствующая одной лекарственной форме (форме выпуска) (таблетка, капсула, суппозиторий и проч.), либо иная единица измерения в соответствии с Общероссийским классификатором единиц измерения (ОК 015-94 (МК 002-97)), применимая для измерения количественных характеристик закупаемого лекарственного препарата.
A5: Единая информационная система в сфере закупок. Справочник лекарств (ЕСКЛП). Справочник-каталог лекарственных препаратов. Каталог товаров, работ, услуг для обеспечения государственных и муниципальных нужд.
A7: № п/п | B7: МНН или при отсутствии МНН химическое, группировочное наименование Товара | C7: Код позиции КТРУ / Реестровая запись. | D7: Единицы измерения (количество товара, объем работы, услуги по ОКЕИ) | E7: Лекарственная форма | F7: Дозировка | G7: Лекарственный препарат включен в перечень жизненно необходимых и важнейших лекарственных препаратов | H7: Наличие в лекарственном препарате наркотических средств, психотропных веществ и их прекурсоров
A8: 1 | B8: Диазепам | C8: 21.20.10.235-000014-1-00090-0000000000000 | D8: Кубический сантиметр; миллилитр | E8: Раствор для инъекций ГРЛС: Раствор для внутривенного и внутримышечного введения; Раствор для инъекций | F8: 5 мг/мл ГРЛС: 5 мг/мл, 10 мг/2 мл | G8: Да | H8: Да
A9: 2 | B9: Фентанил | C9: 21.20.10.231-000012-1-00070-0000000000000 | D9: Кубический сантиметр; миллилитр | E9: Раствор для внутривенного и внутримышечного введения ГРЛС: Раствор для внутривенного и внутримышечного введения | F9: 0.05 мг/мл ГРЛС: 50 мкг/мл | G9: Да | H9: Да
A10: 3 | B10: Кетамин | C10: 21.20.10.231-000024-1-00005-0000000000000 | D10: Кубический сантиметр; миллилитр | E10: Раствор для внутривенного и внутримышечного введения ГРЛС: Раствор для внутривенного и внутримышечного введения | F10: 50 мг/мл ГРЛС: 50 мг/мл | G10: Да | H10: Да
A11: 4 | B11: Тримеперидин | C11: 21.20.10.231-000010-1-00043-0000000000000 | D11: Кубический сантиметр; миллилитр | E11: Раствор для инъекций ГРЛС: Раствор для инъекций | F11: 20 мг/мл ГРЛС: 20 мг/мл | G11: Да | H11: Да
A12: 5 | B12: Морфин | C12: 21.20.10.232-000051-1-00243-0000000000000 | D12: Кубический сантиметр; миллилитр | E12: Раствор для инъекций ГРЛС: Раствор для инъекций | F12: 10 мг/мл ГРЛС: 10 мг/мл, 1 % | G12: Да | H12: Да

Sheet тарифный метод (только ЖНВЛП)
A2: Начальная (максимальная) цена контракта определена в соответствии с Порядком, утвержденном Приказом Министерства здравоохранения Российской Федерации от 19 декабря 2019 года № 1064н «Об утверждении Порядка определения начальной (максимальной) цены контракта, цены контракта, заключаемого с единственным поставщиком (подрядчиком, исполнителем), начальной цены единицы товара, работы, услуги при осуществлении закупок лекарственных препаратов для медицинского применения».
A3: б) Метод, предусмотренный пунктом 3 части 1 статьи 22 Федерального закона от 05.04.2013 N 44-ФЗ "О контрактной системе в сфере закупок товаров, работ, услуг для обеспечения государственных и муниципальных нужд"
A4: Информация о минимально возможной зарегистрированной цене производителя в соответствии с перечнем жизненно необходимых и важнейших лекарственных препаратов для медицинского применения, утвержденным распоряжением Правительства Российской Федерации от 12 октября 2019 г. N 2406-р, постановлением Правительства Российской Федерации от 29.10.2010 № 865 «О государственном регулировании цен на лекарственные препараты, включенные в перечень жизненно необходимых и важнейших лекарственных препаратов», представлена в Государственном реестре предельных отпускных цен производителей на лекарственные препараты, включенные в перечень жизненно необходимых и важнейших лекарственных препаратов, по адресу в сети Интернет http://grls.rosminzdrav.ru/:
A5: Тарифный метод (ч.8 ст.22 44-ФЗ), без учета НДС и оптовой надбавки
A7: № п/п | B7: МНН | C7: Торговое наименование лекарственного препарата | D7: Лекарственная форма, дозировка, упаковка (полная) | E7: Владелец РУ/производитель/упаковщик/Выпускающий контроль | F7: Количество в потребительской упаковке | G7: Предельная цена руб. без НДС | H7: Расчетная цена за единицу измерения, руб. | I7: № РУ | J7: Дата регистрации цены (№ решения) | K7: Расчетная предельная отпускная цена производителя без оптовой надбавки и без НДС, за единицу товара руб. | L7: Примечание
A8: 1 | B8: Диазепам | C8: Сибазон | D8: раствор для внутривенного и внутримышечного введения, 5 мг/мл, 2 мл - ампулы (5) - упаковки ячейковые контурные (2)-пачки картонные | E8: Вл.Вып.к.Перв.Уп.Втор.Уп.Пр.ФГУП "Московский эндокринный завод", Россия; | F8: =2*10 -> 20 | G8: 48 | H8: =G8/F8 -> 2.4 | I8: Р N002572/01-2003 | J8: 17.12.2020 (595/20-20-ОПР) | K8: 5.43
C9: Релиум | D9: раствор для внутривенного и внутримышечного введения, 5 мг/мл, 2 мл - ампулы (5) - коробки картонные | E9: Вл.Вып.к.Тархоминский фармацевтический завод "Польфа" Акционерное Общество, Польша; Перв.Уп.Втор.Уп.Пр."Эйч Би Эм фарма с.р.о.", Словакия; | F9: =2*5 -> 10 | G9: 66.19 | H9: =G9/F9 -> 6.619 | I9: П N015047/01 | J9: 18.12.2020 (651/20-20-ОПР)
C10: Релиум | D10: раствор для внутривенного и внутримышечного введения, 5 мг/мл, 2 мл - ампулы (10) - коробки картонные | E10: Вл.Вып.к.Тархоминский фармацевтический завод "Польфа" Акционерное Общество, Польша; Перв.Уп.Втор.Уп.Пр."Эйч Би Эм фарма с.р.о.", Словакия; | F10: =2*10 -> 20 | G10: 132.4 | H10: =G10/F10 -> 6.62 | I10: П N015047/01 | J10: 18.12.2020 (651/20-20-ОПР)
C11: Релиум | D11: раствор для внутривенного и внутримышечного введения, 5 мг/мл, 2 мл - ампулы (50) - коробки картонные | E11: Вл.Вып.к.Тархоминский фармацевтический завод "Польфа" Акционерное Общество, Польша; Перв.Уп.Втор.Уп.Пр."Эйч Би Эм фарма с.р.о.", Словакия; | F11: =2*50 -> 100 | G11: 619.4 | H11: =G11/F11 -> 6.194 | I11: П N015047/01 | J11: 18.12.2020 (651/20-20-ОПР)
C12: Сибазон | D12: раствор для внутривенного и внутримышечного введения, 5 мг/мл, 2 мл - ампулы (10) - коробки картонные | E12: Вл.Вып.к.Перв.Уп.Втор.Уп.Пр.Дальхимфарм ОАО, Россия (2702010564); | F12: =2*10 -> 20 | G12: 49.09 | H12: =G12/F12 -> 2.4545 | I12: Р N003867/01 | J12: 28.06.2023 906/20-23
C13: Сибазон | D13: раствор для внутривенного и внутримышечного введения, 5 мг/мл, 2 мл - ампулы (10) - пачки картонные | E13: Вл.Вып.к.Перв.Уп.Втор.Уп.Пр.Дальхимфарм ОАО, Россия (2702010564); | F13: =2*10 -> 20 | G13: 49.09 | H13: =G13/F13 -> 2.4545 | I13: Р N003867/01 | J13: 28.06.2023 906/20-23
C14: Сибазон | D14: раствор для внутривенного и внутримышечного введения, 5 мг/мл, 2 мл - ампулы (5) - пачки картонные | E14: Вл.Вып.к.Перв.Уп.Втор.Уп.Пр.Акционерное общество "Органика" (АО "Органика"), Россия (4221000630); | F14: =2*5 -> 10 | G14: 61.77 | H14: =G14/F14 -> 6.177 | I14: ЛП-006703 | J14: 05.08.2024 1132/20-24
C15: Сибазон | D15: раствор для внутривенного и внутримышечного введения, 5 мг/мл, 2 мл - ампулы (10) - пачки картонные | E15: Вл.Вып.к.Перв.Уп.Втор.Уп.Пр.Акционерное общество "Органика" (АО "Органика"), Россия (4221000630); | F15: =2*10 -> 20 | G15: 109.54 | H15: =G15/F15 -> 5.477 | I15: ЛП-№(006966)-(РГ-RU) | J15: 09.01.2025 25-7-4311407-изм
C16: Сибазон | D16: раствор для внутривенного и внутримышечного введения, 5 мг/мл, 2 мл - ампулы (5) / в комплекте с ножом ампульным или скарификатором, если необходим для ампул данного типа / - упаковки ячейковые контурные (1) - пачки картонные | E16: Вл.Вып.к.Перв.Уп.Втор.Уп.Пр.Федеральное государственное унитарное предприятие "МОСКОВСКИЙ ЭНДОКРИННЫЙ ЗАВОД" (ФГУП "МОСКОВСКИЙ ЭНДОКРИННЫЙ ЗАВОД"), Россия (7722059711); | F16: =2*5 -> 10 | G16: 54.3 | H16: =G16/F16 -> 5.43 | I16: Р N002572/01 | J16: 24.03.2025 339/20-25
C17: Сибазон | D17: раствор для внутривенного и внутримышечного введения, 5 мг/мл, 2 мл - ампулы (5) - пачки картонные | E17: Вл.Вып.к.Перв.Уп.Втор.Уп.Пр.Акционерное общество "Органика" (АО "Органика"), Россия (4221000630); | F17: =2*5 -> 10 | G17: 63.22 | H17: =G17/F17 -> 6.322 | I17: ЛП-№(006966)-(РГ-RU) | J17: 26.05.2025 722/20-25
C18: Сибазон | D18: раствор для внутривенного и внутримышечного введения, 5 мг/мл, 2 мл - ампулы (5) - пачки картонные | E18: Вл.Вып.к.Перв.Уп.Втор.Уп.Пр.Федеральное государственное унитарное предприятие "МОСКОВСКИЙ ЭНДОКРИННЫЙ ЗАВОД" (ФГУП "МОСКОВСКИЙ ЭНДОКРИННЫЙ ЗАВОД"), Россия (7722059711); | F18: =2*5 -> 10 | G18: 54.3 | H18: =G18/F18 -> 5.43 | I18: ЛП-№(010252)-(РГ-RU) | J18: 30.06.2025 25-7-4329512-изм
C19: Сибазон | D19: раствор для внутривенного и внутримышечного введения, 5 мг/мл, 2 мл - ампулы (5) / в комплекте с ножом ампульным или скарификатором, если необходим для ампул данного типа / - упаковки ячейковые контурные (1) - пачки картонные | E19: Вл.Вып.к.Перв.Уп.Втор.Уп.Пр.Федеральное государственное унитарное предприятие "МОСКОВСКИЙ ЭНДОКРИННЫЙ ЗАВОД" (ФГУП "МОСКОВСКИЙ ЭНДОКРИННЫЙ ЗАВОД"), Россия (7722059711); | F19: =2*5 -> 10 | G19: 56.3 | H19: =G19/F19 -> 5.63 | I19: Р N002572/01 | J19: 13.03.2026 343/25-26
C20: Сибазон | D20: раствор для внутривенного и внутримышечного введения, 5 мг/мл, 2 мл - ампулы (5) - пачки картонные | E20: Вл.Вып.к.Перв.Уп.Втор.Уп.Пр.Федеральное государственное унитарное предприятие "МОСКОВСКИЙ ЭНДОКРИННЫЙ ЗАВОД" (ФГУП "МОСКОВСКИЙ ЭНДОКРИННЫЙ ЗАВОД"), Россия (7722059711); | F20: =2*5 -> 10 | G20: 56.3 | H20: =G20/F20 -> 5.63 | I20: ЛП-№(010252)-(РГ-RU) | J20: 13.03.2026 343/25-26
C21: Сибазон | D21: раствор для внутривенного и внутримышечного введения, 5 мг/мл, 2 мл - ампулы (5) - пачки картонные | E21: Вл.Федеральное государственное унитарное предприятие "МОСКОВСКИЙ ЭНДОКРИННЫЙ ЗАВОД" (ФГУП "ЭНДОФАРМ"), Россия (7722059711); Перв.Уп.Втор.Уп.Пр.Федеральное государственное унитарное предприятие "МОСКОВСКИЙ ЭНДОКРИННЫЙ ЗАВОД" (ФГУП "ЭНДОФАРМ"), Россия (7722059711); Вып.к.Федеральное государственное унитарное предприятие "МОСКОВСКИЙ ЭНДОКРИННЫЙ ЗАВОД" (ФГУП "ЭНДОФАРМ"), Россия (7722059711); | F21: =2*5 -> 10 | G21: 56.3 | H21: =G21/F21 -> 5.63 | I21: ЛП-№(010252)-(РГ-RU) | J21: 17.06.2026 25-7-4366079-изм
C22: Сибазон | D22: раствор для внутривенного и внутримышечного введения, 5 мг/мл, 2 мл - ампулы (10) - коробки картонные | E22: Вл.Вып.к.Перв.Уп.Втор.Уп.Пр.Акционерное общество "ДАЛЬХИМФАРМ" (АО "ДАЛЬХИМФАРМ"), Россия (2702010564); | F22: =2*10 -> 20 | G22: 49.09 | H22: =G22/F22 -> 2.4545 | I22: ЛП-№(015876)-(РГ-RU) | J22: 25.08.2026 25-7-4371895-изм
C23: Сибазон | D23: раствор для внутривенного и внутримышечного введения, 5 мг/мл, 2 мл - ампулы (10) - пачки картонные | E23: Вл.Вып.к.Перв.Уп.Втор.Уп.Пр.Акционерное общество "ДАЛЬХИМФАРМ" (АО "ДАЛЬХИМФАРМ"), Россия (2702010564); | F23: =2*10 -> 20 | G23: 49.09 | H23: =G23/F23 -> 2.4545 | I23: ЛП-№(015876)-(РГ-RU) | J23: 25.08.2026 25-7-4371895-изм
A24: 2 | B24: Фентанил | C24: Фентанил | D24: раствор для инъекций 50 мкг/мл, 1 мл - ампулы (5) - упаковки ячейковые контурные (100) /в комплекте с ножом ампульным или скарификатором, если необходим для ампул данного типа/ - коробки картонные | E24: ФГУП "Государственный завод медицинских препаратов" - Россия | F24: 500 | G24: 4976.64 | H24: =G24/F24 -> 9.95328 | I24: Р N002020/01 | J24: 24.12.2020 (741/20-20-ОПР) | K24: 9.62
C25: Фентанил | D25: раствор для инъекций 50 мкг/мл, 1 мл - ампулы (5) - упаковки ячейковые контурные (20) /в комплекте с ножом ампульным или скарификатором, если необходим для ампул данного типа/ - коробки картонные | E25: ФГУП "Государственный завод медицинских препаратов" - Россия | F25: 100 | G25: 995.33 | H25: =G25/F25 -> 9.9533 | I25: Р N002020/01 | J25: 24.12.2020 (741/20-20-ОПР)
C26: Фентанил | D26: раствор для инъекций 50 мкг/мл, 1 мл - ампулы (5) - упаковки ячейковые контурные (30) /в комплекте с ножом ампульным или скарификатором, если необходим для ампул данного типа/ - коробки картонные | E26: ФГУП "Государственный завод медицинских препаратов" - Россия | F26: 150 | G26: 1492.99 | H26: =G26/F26 -> 9.9532667 | I26: Р N002020/01 | J26: 24.12.2020 (741/20-20-ОПР)
C27: Фентанил | D27: раствор для инъекций 50 мкг/мл, 1 мл - ампулы (5) - упаковки ячейковые контурные (40) /в комплекте с ножом ампульным или скарификатором, если необходим для ампул данного типа/ - коробки картонные | E27: ФГУП "Государственный завод медицинских препаратов" - Россия | F27: 200 | G27: 1990.66 | H27: =G27/F27 -> 9.9533 | I27: Р N002020/01 | J27: 24.12.2020 (741/20-20-ОПР)
C28: Фентанил | D28: раствор для инъекций 50 мкг/мл, 1 мл - ампулы (5) - упаковки ячейковые контурные (50) /в комплекте с ножом ампульным или скарификатором, если необходим для ампул данного типа/ - коробки картонные | E28: ФГУП "Государственный завод медицинских препаратов" - Россия | F28: 250 | G28: 2488.32 | H28: =G28/F28 -> 9.95328 | I28: Р N002020/01 | J28: 24.12.2020 (741/20-20-ОПР)
C29: Фентанил | D29: раствор для инъекций 50 мкг/мл, 2 мл - ампулы (5) - упаковки ячейковые контурные (20) /в комплекте с ножом ампульным или скарификатором, если необходим для ампул данного типа/ - коробки картонные | E29: ФГУП "Государственный завод медицинских препаратов" - Россия | F29: =2*100 -> 200 | G29: 1181.95 | H29: =G29/F29 -> 5.90975 | I29: Р N002020/01 | J29: 24.12.2020 (741/20-20-ОПР)
C30: Фентанил | D30: раствор для инъекций 50 мкг/мл, 2 мл - ампулы (5) - упаковки ячейковые контурные (30) /в комплекте с ножом ампульным или скарификатором, если необходим для ампул данного типа/ - коробки картонные | E30: ФГУП "Государственный завод медицинских препаратов" - Россия | F30: =2*150 -> 300 | G30: 1772.93 | H30: =G30/F30 -> 5.9097667 | I30: Р N002020/01 | J30: 24.12.2020 (741/20-20-ОПР)
C31: Фентанил | D31: раствор для инъекций 50 мкг/мл, 2 мл - ампулы (5) - упаковки ячейковые контурные (40) /в комплекте с ножом ампульным или скарификатором, если необходим для ампул данного типа/ - коробки картонные | E31: ФГУП "Государственный завод медицинских препаратов" - Россия | F31: =2*200 -> 400 | G31: 2363.9 | H31: =G31/F31 -> 5.90975 | I31: Р N002020/01 | J31: 24.12.2020 (741/20-20-ОПР)
C32: Фентанил | D32: раствор для инъекций 50 мкг/мл, 2 мл - ампулы (5) - упаковки ячейковые контурные (50) /в комплекте с ножом ампульным или скарификатором, если необходим для ампул данного типа/ - коробки картонные | E32: ФГУП "Государственный завод медицинских препаратов" - Россия | F32: =2*250 -> 500 | G32: 2954.88 | H32: =G32/F32 -> 5.90976 | I32: Р N002020/01 | J32: 24.12.2020 (741/20-20-ОПР)
C33: Фентанил | D33: раствор для внутривенного и внутримышечного введения, 50 мкг/мл, 2 мл - ампулы (5) - упаковки ячейковые контурные (100) - коробки картонные | E33: ФГУП "Государственный завод медицинских препаратов" - Россия | F33: =2*500 -> 1000 | G33: 7345.1 | H33: =G33/F33 -> 7.3451 | I33: Р N002020/01 | J33: 24.12.2020 (741/20-20-ОПР)
C34: Фентанил | D34: раствор для внутривенного и внутримышечного введения, 50 мкг/мл, 1 мл - ампулы (5) - коробки картонные (для стационаров) | E34: Вл.Федеральное государственное унитарное предприятие "Государственный завод медицинских препаратов" (ФГУП "ГосЗМП"), Россия; Вып.к.Перв.Уп.Втор.Уп.Пр.ФГУП "Государственный завод медицинских препаратов", Россия; | F34: 5 | G34: 64.3 | H34: =G34/F34 -> 12.86 | I34: Р N002020/01 | J34: 24.12.2020 (741/20-20-ОПР)
C35: Фентанил | D35: раствор для внутривенного и внутримышечного введения, 50 мкг/мл, 2 мл - ампулы (5) - коробки картонные (для стационаров) | E35: Вл.Федеральное государственное унитарное предприятие "Государственный завод медицинских препаратов" (ФГУП "ГосЗМП"), Россия; Вып.к.Перв.Уп.Втор.Уп.Пр.ФГУП "Государственный завод медицинских препаратов", Россия; | F35: =2*5 -> 10 | G35: 76.2 | H35: =G35/F35 -> 7.62 | I35: Р N002020/01 | J35: 24.12.2020 (741/20-20-ОПР)
C36: Фентанил | D36: раствор для внутривенного и внутримышечного введения, 50 мкг/мл, 1 мл - ампулы (5) - упаковки ячейковые контурные (1) - пачки картонные | E36: Вл.Вып.к.Перв.Уп.Втор.Уп.Пр.Федеральное государственное унитарное предприятие "МОСКОВСКИЙ ЭНДОКРИННЫЙ ЗАВОД" (ФГУП "МОСКОВСКИЙ ЭНДОКРИННЫЙ ЗАВОД"), Россия (7722059711); | F36: 5 | G36: 78.6 | H36: =G36/F36 -> 15.72 | I36: Р N000266/01 | J36: 14.04.2025 479/20-25
C37: Фентанил | D37: раствор для внутривенного и внутримышечного введения, 50 мкг/мл, 1 мл - ампулы (5) - упаковки ячейковые контурные (1) - пачки картонные | E37: Вл.Вып.к.Перв.Уп.Втор.Уп.Пр.Федеральное государственное унитарное предприятие "МОСКОВСКИЙ ЭНДОКРИННЫЙ ЗАВОД" (ФГУП "МОСКОВСКИЙ ЭНДОКРИННЫЙ ЗАВОД"), Россия (7722059711); | F37: 5 | G37: 78.6 | H37: =G37/F37 -> 15.72 | I37: ЛП-№(006811)-(РГ-RU) | J37: 14.04.2025 479/20-25
C38: Фентанил | D38: раствор для внутривенного и внутримышечного введения, 50 мкг/мл, 2 мл - ампулы (5) - упаковки ячейковые контурные (2) - пачки картонные | E38: Вл.Вып.к.Перв.Уп.Втор.Уп.Пр.Федеральное государственное унитарное предприятие "МОСКОВСКИЙ ЭНДОКРИННЫЙ ЗАВОД" (ФГУП "МОСКОВСКИЙ ЭНДОКРИННЫЙ ЗАВОД"), Россия (7722059711); | F38: =2*10 -> 20 | G38: 192.3 | H38: =G38/F38 -> 9.615 | I38: ЛП-№(006811)-(РГ-RU) | J38: 17.02.2026 174/25-26
C39: Фентанил | D39: раствор для внутривенного и внутримышечного введения, 50 мкг/мл, 1 мл - ампулы (5) - упаковки ячейковые контурные (1) - пачки картонные | E39: Вл.Вып.к.Перв.Уп.Втор.Уп.Пр.Федеральное государственное унитарное предприятие "МОСКОВСКИЙ ЭНДОКРИННЫЙ ЗАВОД" (ФГУП "МОСКОВСКИЙ ЭНДОКРИННЫЙ ЗАВОД"), Россия (7722059711); | F39: 5 | G39: 80.6 | H39: =G39/F39 -> 16.12 | I39: ЛП-№(006811)-(РГ-RU) | J39: 17.02.2026 174/25-26
C40: Фентанил | D40: раствор для внутривенного и внутримышечного введения, 50 мкг/мл, 1 мл - ампулы (5) - пачки картонные | E40: Вл.Федеральное государственное унитарное предприятие "МОСКОВСКИЙ ЭНДОКРИННЫЙ ЗАВОД" (ФГУП "ЭНДОФАРМ"), Россия (7722059711); Перв.Уп.Втор.Уп.Пр.Федеральное государственное унитарное предприятие "МОСКОВСКИЙ ЭНДОКРИННЫЙ ЗАВОД" (ФГУП "ЭНДОФАРМ"), Россия (7722059711); Вып.к.Федеральное государственное унитарное предприятие "МОСКОВСКИЙ ЭНДОКРИННЫЙ ЗАВОД" (ФГУП "ЭНДОФАРМ"), Россия (7722059711); | F40: 5 | G40: 80.6 | H40: =G40/F40 -> 16.12 | I40: ЛП-№(006811)-(РГ-RU) | J40: 27.02.2026 25-7-4355837-изм
C41: Фентанил | D41: раствор для внутривенного и внутримышечного введения, 50 мкг/мл, 2 мл - ампулы (10) - пачки картонные | E41: Вл.Федеральное государственное унитарное предприятие "МОСКОВСКИЙ ЭНДОКРИННЫЙ ЗАВОД" (ФГУП "ЭНДОФАРМ"), Россия (7722059711); Перв.Уп.Втор.Уп.Пр.Федеральное государственное унитарное предприятие "МОСКОВСКИЙ ЭНДОКРИННЫЙ ЗАВОД" (ФГУП "ЭНДОФАРМ"), Россия (7722059711); Вып.к.Федеральное государственное унитарное предприятие "МОСКОВСКИЙ ЭНДОКРИННЫЙ ЗАВОД" (ФГУП "ЭНДОФАРМ"), Россия (7722059711); | F41: =2*10 -> 20 | G41: 192.3 | H41: =G41/F41 -> 9.615 | I41: ЛП-№(006811)-(РГ-RU) | J41: 27.02.2026 25-7-4355837-изм
C42: Фентанил | D42: раствор для внутривенного и внутримышечного введения, 50 мкг/мл, 2 мл - ампулы (5) - упаковки ячейковые контурные (2) - пачки картонные | E42: Вл.Вып.к.Перв.Уп.Втор.Уп.Пр.Федеральное государственное унитарное предприятие "МОСКОВСКИЙ ЭНДОКРИННЫЙ ЗАВОД" (ФГУП "МОСКОВСКИЙ ЭНДОКРИННЫЙ ЗАВОД"), Россия (7722059711); | F42: =2*10 -> 20 | G42: 192.3 | H42: =G42/F42 -> 9.615 | I42: Р N000266/01 | J42: 17.02.2026 174/25-26
...

Sheet Средневзвешенная
A2: Начальная (максимальная) цена контракта определена в соответствии с Порядком, утвержденном Приказом Министерства здравоохранения Российской Федерации от 19 декабря 2019 года № 1064н
A3: в) Расчет средневзвешенной цены на основании всех заключенных заказчиком и исполненных поставщиком государственных (муниципальных) контрактов на поставку планируемого к закупке лекарственного препарата с учетом эквивалентных лекарственных форм и дозировок за 12 месяцев, предшествующих месяцу расчета НМЦК ( Официальный сайт Единой информационной системы в сфере закупок zakupki.gov.ru), начальной цены единицы лекарственного препарата, проводится по формуле: Цвзв= (Ц_1 х k_1+⋯+Ц_n х k_n)/(∑▒k_n ) , где: Ц1 – цена единицы лекарственного препарата без учета НДС и оптовой надбавки; k – количество закупленных лекарственных препаратов в эквивалентных лекарственных формах и дозировках. Информация официального сайта Единой информационной системы в сфере закупок (http://zakupki.gov.ru)
A5: № п/п | B5: МНН | C5: Торговое наименование, дозировка, лекарственная форма | D5: Количество упаковок | E5: Количество шт в упаковке | F5: Количество шт всего | G5: Цена **по контракту за упаковку без НДС и оптовой надбавки, руб | H5: Цена **по контракту за штуку без НДС и оптовой надбавки, руб | I5: Минимальное значение цены без учета НДС и оптовой надбавки | J5: Номер сведений о контракте (реестровой записи) и даты заключения контракта | K5: Ссылка на страницу в сети Интернет | L5: Примечание
A6: 1 | B6: ='Справочник лекарств'!B8 -> Диазепам | C6: Отсутствуют исполненные поставщиком государственных (муниципальных) контрактов на поставку планируемого к закупке лекарственного препарата за 12 месяцев, предшествующих месяцу расчета НМЦК
E7: Всего | F7: =F6 -> 0
A8: 2 | B8: ='Справочник лекарств'!B9 -> Фентанил | C8: Отсутствуют исполненные поставщиком государственных (муниципальных) контрактов на поставку планируемого к закупке лекарственного препарата за 12 месяцев, предшествующих месяцу расчета НМЦК
E9: Всего | F9: =F8 -> 0
A10: 3 | B10: ='Справочник лекарств'!B10 -> Кетамин | C10: Отсутствуют исполненные поставщиком государственных (муниципальных) контрактов на поставку планируемого к закупке лекарственного препарата за 12 месяцев, предшествующих месяцу расчета НМЦК
E11: Всего | F11: =F10 -> 0
A12: 4 | B12: ='Справочник лекарств'!B11 -> Тримеперидин | C12: Отсутствуют исполненные поставщиком государственных (муниципальных) контрактов на поставку планируемого к закупке лекарственного препарата за 12 месяцев, предшествующих месяцу расчета НМЦК
E13: Всего | F13: =F12 -> 0
A14: 5 | B14: ='Справочник лекарств'!B12 -> Морфин | C14: Отсутствуют исполненные поставщиком государственных (муниципальных) контрактов на поставку планируемого к закупке лекарственного препарата за 12 месяцев, предшествующих месяцу расчета НМЦК
E15: Всего | F15: =F14 -> 0

Sheet анализ рынка
A2: Начальная (максимальная) цена контракта определена в соответствии с Порядком, утвержденном Приказом Министерства здравоохранения Российской Федерации от 19 декабря 2019 года № 1064н «Об утверждении Порядка определения начальной (максимальной) цены контракта, цены контракта, заключаемого с единственным поставщиком (подрядчиком, исполнителем), начальной цены единицы товара, работы, услуги при осуществлении закупок лекарственных препаратов для медицинского применения».
A3: а) Метод сопостовимых рыночных цен, предусмотренный части 2-6 статьи 22 Федерального закона от 05.04.2013 N 44-ФЗ "О контрактной системе в сфере закупок товаров, работ, услуг для обеспечения государственных и муниципальных нужд"
A4: В целях получения ценовой информации в отношении поставляемого товара для определения НМЦК был направлен запрос от 10-09/26 от 08.09.2026 о предоставлении ценовой информации Поставщикам, обладающим опытом поставок соответствующих Товаров, информация о которых имеется в свободном доступе, в частности, опубликована в печати, размещена на сайтах в сети «Интернет». На запрос было представлено ценовое предложение от 1 (одного) Поставщика. Расчет произведен по наименьшему ценовому предложению, в целях эффективности и экономии использования бюджетных средств, что не противоречит положениям Закона N 44-ФЗ.
A5: Метод сопоставимых рыночных цен (анализ рынка) (ч.2-6 ст.22 44-ФЗ), без учета НДС и оптовой надбавки
A7: № п/п | B7: МНН или при отсутствии МНН химическое, группировочное наименование Товара | C7: Лекарственная форма | D7: Дозировка | E7: Коммерческие предложения | Q7: Наименьшая цена единицы лекарственного препараты
E8: Коммерческое предложение №1 (вх №6347 от 08.09.2026г.) | I8: Коммерческое предложение №2 (вх №________.) | M8: Коммерческое предложение №3 (вх №__________)
E9: Цена за упаковку, руб. | F9: Единицы измерения (количество товара, объем работы, услуги по ОКЕИ) | G9: Кол-во в ед.измерения, в 1 упаковке | H9: Расчетная цена за единицу измерения, руб. | I9: Цена за упаковку, руб. | J9: Единицы измерения (количество товара, объем работы, услуги по ОКЕИ) | K9: Кол-во в ед.измерения, в 1 упаковке | L9: Расчетная цена за единицу измерения, руб. | M9: Цена за упаковку, руб. | N9: Единицы измерения (количество товара, объем работы, услуги по ОКЕИ) | O9: Кол-во в ед.измерения, в 1 упаковке | P9: Расчетная цена за единицу измерения, руб.
A10: 1 | B10: Диазепам | C10: Раствор для инъекций ГРЛС: Раствор для внутривенного и внутримышечного введения; Раствор для инъекций | D10: 5 мг/мл ГРЛС: 5 мг/мл, 10 мг/2 мл | E10: 54.3 | F10: Кубический сантиметр; миллилитр | G10: =2*5 -> 10 | H10: =E10/G10 -> 5.43 | Q10: 5.43
A11: 2 | B11: Фентанил | C11: Раствор для внутривенного и внутримышечного введения ГРЛС: Раствор для внутривенного и внутримышечного введения | D11: 0.05 мг/мл ГРЛС: 50 мкг/мл | E11: 192.3 | F11: Кубический сантиметр; миллилитр | G11: =2*10 -> 20 | H11: =E11/G11 -> 9.615 | Q11: 9.62
A12: 3 | B12: Кетамин | C12: Раствор для внутривенного и внутримышечного введения ГРЛС: Раствор для внутривенного и внутримышечного введения | D12: 50 мг/мл ГРЛС: 50 мг/мл | E12: =285.18/1.1/1.49 -> 173.99634 | F12: Кубический сантиметр; миллилитр | G12: =2*5 -> 10 | H12: =E12/G12 -> 17.399634 | Q12: 17.4
A13: 4 | B13: Тримеперидин | C13: Раствор для инъекций ГРЛС: Раствор для инъекций | D13: 20 мг/мл ГРЛС: 20 мг/мл | E13: =724.76/1.1/1.49 -> 442.19646 | F13: Кубический сантиметр; миллилитр | G13: =1*10 -> 10 | H13: =E13/G13 -> 44.219646 | Q13: 44.22
A14: 5 | B14: Морфин | C14: Раствор для инъекций ГРЛС: Раствор для инъекций | D14: 10 мг/мл ГРЛС: 10 мг/мл, 1 % | E14: =370.08/1.1/1.49 -> 225.79622 | F14: Кубический сантиметр; миллилитр | G14: =1*10 -> 10 | H14: =E14/G14 -> 22.579622 | Q14: 22.58
B17: Для расчета использовалось 1 ком.предложение так как реализация наркотических средств и психотропных веществ, используемых в медицинских целях, осуществляется юридическими лицами, указанными в пункте 11 Правил (Утверждены постановлением Правительства Российской Федерации от 30 октября 2021 г. N 1871), уполномоченной организацией в соответствии с утвержденным планом распределения на 2026 год выданным Комитетом здравоохранения Ленинградской области является ГАУ ЛО «Ленфарм».

Sheet Выбор минимального значения
A2: Минимальное значение НМЦ Товара за единицу измерения, установленное в ходе проведенного анализа, принимается в качестве начальной (максимальной) цены за единицу товара при расчете начальной (максимальной) цены контракта.
A4: № п/п | B4: МНН или при отсутствии МНН химическое, группировочное наименование Товара | C4: Код позиции КТРУ / Реестровая запись. | D4: Единицы измерения (количество товара, объем работы, услуги по ОКЕИ) | E4: Лекарственная форма | F4: Дозировка | G4: Лекарственный препарат включен в перечень жизненно необходимых и важнейших лекарственных препаратов | H4: Тарифный метод (ч.8 ст.22 44-ФЗ), без учета НДС и оптовой надбавки | I4: Метод сопоставимых рыночных цен (анализ рынка) (ч.2-6 ст.22 44-ФЗ), без учета НДС и оптовой надбавки | J4: Расчет средневзвешенной цены по контрактам (в случае заключения единственного контракта – цены по контракту), без учета НДС и оптовой надбавки | K4: Расчет референтных цен, без учета НДС и оптовой надбавки | L4: Минимальное значение НМЦ Товара за единицу измерения, руб.
A5: 1 | B5: Диазепам | C5: 21.20.10.235-000014-1-00090-0000000000000 | D5: Кубический сантиметр; миллилитр | E5: Раствор для инъекций ГРЛС: Раствор для внутривенного и внутримышечного введения; Раствор для инъекций | F5: 5 мг/мл ГРЛС: 5 мг/мл, 10 мг/2 мл | G5: Да | H5: ='тарифный метод (только ЖНВЛП)'!$K$8 -> 5.43 | I5: ='анализ рынка'!Q10 -> 5.43 | J5: Отсутствуют исполненные поставщиком государственных (муниципальных) контрактов на поставку планируемого к закупке лекарственного препарата за 12 месяцев, предшествующих месяцу расчета НМЦК | K5: - | L5: 5.43
A6: 2 | B6: Фентанил | C6: 21.20.10.231-000012-1-00070-0000000000000 | D6: Кубический сантиметр; миллилитр | E6: Раствор для внутривенного и внутримышечного введения ГРЛС: Раствор для внутривенного и внутримышечного введения | F6: 0.05 мг/мл ГРЛС: 50 мкг/мл | G6: Да | H6: ='тарифный метод (только ЖНВЛП)'!K24 -> 9.62 | I6: ='анализ рынка'!Q11 -> 9.62 | J6: Отсутствуют исполненные поставщиком государственных (муниципальных) контрактов на поставку планируемого к закупке лекарственного препарата за 12 месяцев, предшествующих месяцу расчета НМЦК | K6: - | L6: 9.62
A7: 3 | B7: Кетамин | C7: 21.20.10.231-000024-1-00005-0000000000000 | D7: Кубический сантиметр; миллилитр | E7: Раствор для внутривенного и внутримышечного введения ГРЛС: Раствор для внутривенного и внутримышечного введения | F7: 50 мг/мл ГРЛС: 50 мг/мл | G7: Да | H7: ='тарифный метод (только ЖНВЛП)'!K44 -> 17.4 | I7: ='анализ рынка'!Q12 -> 17.4 | J7: Отсутствуют исполненные поставщиком государственных (муниципальных) контрактов на поставку планируемого к закупке лекарственного препарата за 12 месяцев, предшествующих месяцу расчета НМЦК | K7: - | L7: 17.4
A8: 4 | B8: Тримеперидин | C8: 21.20.10.231-000010-1-00043-0000000000000 | D8: Кубический сантиметр; миллилитр | E8: Раствор для инъекций ГРЛС: Раствор для инъекций | F8: 20 мг/мл ГРЛС: 20 мг/мл | G8: Да | H8: ='тарифный метод (только ЖНВЛП)'!K48 -> 44.22 | I8: ='анализ рынка'!Q13 -> 44.22 | J8: Отсутствуют исполненные поставщиком государственных (муниципальных) контрактов на поставку планируемого к закупке лекарственного препарата за 12 месяцев, предшествующих месяцу расчета НМЦК | K8: - | L8: 44.22
A9: 5 | B9: Морфин | C9: 21.20.10.232-000051-1-00243-0000000000000 | D9: Кубический сантиметр; миллилитр | E9: Раствор для инъекций ГРЛС: Раствор для инъекций | F9: 10 мг/мл ГРЛС: 10 мг/мл, 1 % | G9: Да | H9: ='тарифный метод (только ЖНВЛП)'!K72 -> 22.58 | I9: ='анализ рынка'!Q14 -> 22.58 | J9: Отсутствуют исполненные поставщиком государственных (муниципальных) контрактов на поставку планируемого к закупке лекарственного препарата за 12 месяцев, предшествующих месяцу расчета НМЦК | K9: - | L9: 22.58
A11: Обоснование формирования начальной (максимальной) цены контракта:
A12: В соответствии с приказом Министерства здравоохранения Российской Федерации от 19 декабря 2019 года № 1064н «Об утверждении Порядка определения начальной (максимальной) цены контракта, цены контракта, заключаемого с единственным поставщиком (подрядчиком, исполнителем), начальной цены единицы товара, работы, услуги при осуществлении закупок лекарственных препаратов для медицинского применения» при определение начальной (максимальной) цены (далее – НМЦ) Товара за единицу измерения применялись:
A13: Применялись 2 метода расчета:
A14: а) метод сопоставимых рыночных цен (анализ рынка) и тарифный метод в соответствии с частями 1-2, 6 и 8 статьи 22 Федерального закона от 5 апреля 2013 г. № 44-ФЗ «О контрактной системе в сфере закупок товаров, работ, услуг для обеспечения государственных и муниципальных нужд».
A15: б) тарифный метод в соответствии с частями 1-2, 6 и 8 статьи 22 Федерального закона от 5 апреля 2013 г. № 44-ФЗ «О контрактной системе в сфере закупок товаров, работ, услуг для обеспечения государственных и муниципальных нужд».
A16: Не применялись 2 метода расчета:
A17: в) метод расчета средневзвешенной цены на основании всех исполненных Заказчиком государственных контрактов на поставку планируемого к закупке лекарственного препарата с учетом эквивалентных лекарственных форм и дозировок за 12 месяцев, предшествующих месяцу расчета - данный метод не применяется так как отсутствуют исполненные поставщиком государственных (муниципальных) контрактов на поставку планируемого к закупке лекарственного препарата за 12 месяцев, предшествующих месяцу расчета НМЦК.
A18: г) использования цены, которая рассчитывается автоматически в единой государственной информационной системе в сфере здравоохранения, сведения о которой предоставляются в единую информационную систему в сфере закупок посредством информационного взаимодействия между указанными системами - данный метод не применяется так как на момент формирования НМЦК (от 09.2026) информация о референтной цене на официальном сайте Единой информационной системы в сфере закупок (http://zakupki.gov.ru): отсутствует.

Sheet РНМЦД
A2: РАСЧЕТ НАЧАЛЬНОЙ (МАКСИМАЛЬНОЙ) ЦЕНЫ КОНТРАКТА
A4: Начальная (максимальная) цена контракта определена в соответствии с Порядком, утвержденном Приказом Министерства здравоохранения Российской Федерации от 19 декабря 2019 года № 1064н «Об утверждении Порядка определения начальной (максимальной) цены контракта, цены контракта, заключаемого с единственным поставщиком (подрядчиком, исполнителем), начальной цены единицы товара, работы, услуги при осуществлении закупок лекарственных препаратов для медицинского применения».
A5: Расчет начальной (максимальной) цены контракта осуществляется по формуле:
A6: где: n - количество поставляемых лекарственных препаратов; Цi - цена единицы i-го лекарственного препарата с учетом налога на добавленную стоимость (далее - НДС) и оптовой надбавки; Vi - объем поставки i-го лекарственного препарата
A7: Объект закупки: Поставка лекарственных препаратов для медицинского применения: Диазепам, Фентанил, Кетамин, Тримеперидин, Морфин
A9: № п/п | B9: МНН или при отсутствии МНН химическое, группировочное наименование Товара | C9: Код позиции КТРУ / Реестровая запись. | D9: Единицы измерения (количество товара, объем работы, услуги по ОКЕИ) | E9: Лекарственная форма | F9: Дозировка | G9: Лекарственный препарат включен в перечень жизненно необходимых и важнейших лекарственных препаратов | H9: Количество единиц измерения к обеспечению | I9: Минимальное значение цены без учета НДС и оптовой надбавки | J9: Оптовая надбавка * | K9: Цена для формирования НЦК с оптовой надбавкой для ЖНВЛП | L9: Цена с НДС ** | M9: Цена для формирования НЦК с НДС с округлением | N9: Начальная (максимальная цена контракта с НДС и оптовой надбавкой
A10: 1 | B10: Диазепам | C10: 21.20.10.235-000014-1-00090-0000000000000 | D10: Кубический сантиметр; миллилитр | E10: Раствор для инъекций ГРЛС: Раствор для внутривенного и внутримышечного введения; Раствор для инъекций | F10: 5 мг/мл ГРЛС: 5 мг/мл, 10 мг/2 мл | G10: Да | H10: 4000 | I10: ='Выбор минимального значения'!L5 -> 5.43 | J10: 0.5 | K10: =I10*1.5 -> 8.145 | L10: 8.96 | M10: 8.96 | N10: =M10*H10 -> 35840
A11: 2 | B11: Фентанил | C11: 21.20.10.231-000012-1-00070-0000000000000 | D11: Кубический сантиметр; миллилитр | E11: Раствор для внутривенного и внутримышечного введения ГРЛС: Раствор для внутривенного и внутримышечного введения | F11: 0.05 мг/мл ГРЛС: 50 мкг/мл | G11: Да | H11: 14000 | I11: ='Выбор минимального значения'!L6 -> 9.62 | J11: 0.49 | K11: =I11*1.49 -> 14.3338 | L11: =14.33*1.1 -> 15.763 | M11: 15.76 | N11: =M11*H11 -> 220640
A12: 3 | B12: Кетамин | C12: 21.20.10.231-000024-1-00005-0000000000000 | D12: Кубический сантиметр; миллилитр | E12: Раствор для внутривенного и внутримышечного введения ГРЛС: Раствор для внутривенного и внутримышечного введения | F12: 50 мг/мл ГРЛС: 50 мг/мл | G12: Да | H12: 700 | I12: ='Выбор минимального значения'!L7 -> 17.4 | J12: 0.49 | K12: =I12*1.49 -> 25.926 | L12: =25.93*1.1 -> 28.523 | M12: 28.52 | N12: =M12*H12 -> 19964
A13: 4 | B13: Тримеперидин | C13: 21.20.10.231-000010-1-00043-0000000000000 | D13: Кубический сантиметр; миллилитр | E13: Раствор для инъекций ГРЛС: Раствор для инъекций | F13: 20 мг/мл ГРЛС: 20 мг/мл | G13: Да | H13: 200 | I13: ='Выбор минимального значения'!L8 -> 44.22 | J13: 0.49 | K13: =I13*1.49 -> 65.8878 | L13: =65.89*1.1 -> 72.479 | M13: 72.48 | N13: =M13*H13 -> 14496
A14: 5 | B14: Морфин | C14: 21.20.10.232-000051-1-00243-0000000000000 | D14: Кубический сантиметр; миллилитр | E14: Раствор для инъекций ГРЛС: Раствор для инъекций | F14: 10 мг/мл ГРЛС: 10 мг/мл, 1 % | G14: Да | H14: 100 | I14: ='Выбор минимального значения'!L9 -> 22.58 | J14: 0.49 | K14: =I14*1.49 -> 33.6442 | L14: =33.64*1.1 -> 37.004 | M14: 37 | N14: =M14*H14 -> 3700
A15: Итого: | N15: =SUM(N10:N14) -> 294640
A17: Начальная (максимальная) цена контракта составляет: | H17: =N15 -> 294640
A19: * Оптовая надбавка устанавливается только для лекарственных препаратов, включенных в перечень жизненно необходимых и важнейших лекарственных препаратов
A20: ** НДС +10%, в соответствии с подпунктом 4 пункта 2 статьи 164 «Налогового кодекса Российской Федерации (часть вторая)» от 05.08.2000 № 117-ФЗ.
A21: Начальная (максимальная) цена контракта включает в себя все расходы на поставку товара, включая расходы по упаковке, доставке, погрузо-разгрузочным работам, а также расходы на страхование, уплату таможенных пошлин, налогов и других обязательных платежей, которые Поставщик должен выплатить в связи с выполнением обязательств по контракту в соответствии с законодательством Российской Федерации.
A23: Зам. начальника материально - технического обеспечения и закупок _______________________ / А.В.Красулина /
E25: дата расчета 15.09.2026
